BEGIN:VCALENDAR
VERSION:2.0
PRODID:-//The Spirit Church - ECPv6.15.20//NONSGML v1.0//EN
CALSCALE:GREGORIAN
METHOD:PUBLISH
X-WR-CALNAME:The Spirit Church
X-ORIGINAL-URL:https://thespiritchurch.org
X-WR-CALDESC:Events for The Spirit Church
REFRESH-INTERVAL;VALUE=DURATION:PT1H
X-Robots-Tag:noindex
X-PUBLISHED-TTL:PT1H
BEGIN:VTIMEZONE
TZID:UTC
BEGIN:STANDARD
TZOFFSETFROM:+0000
TZOFFSETTO:+0000
TZNAME:UTC
DTSTART:20250101T000000
END:STANDARD
END:VTIMEZONE
BEGIN:VEVENT
DTSTART;TZID=UTC:20260724T180000
DTEND;TZID=UTC:20260724T200000
DTSTAMP:20260423T234523
CREATED:20251229T193602Z
LAST-MODIFIED:20260413T190933Z
UID:10000945-1784916000-1784923200@thespiritchurch.org
SUMMARY:Next Up Service
DESCRIPTION:Calling all young adults! Don’t miss the opportunity to connect with like-minded individuals. Join us for an on-time word and hang out afterward. Note: Post-service hangout locations may vary.
URL:https://thespiritchurch.org/eventcalendar/next-up-service-5/2026-07-24/
ATTACH;FMTTYPE=image/png:https://thespiritchurch.org/wp-content/uploads/2025/12/Next-Up-UPDATED-ROLLING-SLIDE-4.png
END:VEVENT
BEGIN:VEVENT
DTSTART;VALUE=DATE:20260725
DTEND;VALUE=DATE:20260726
DTSTAMP:20260423T234523
CREATED:20260422T143134Z
LAST-MODIFIED:20260422T143530Z
UID:10001005-1784937600-1785023999@thespiritchurch.org
SUMMARY:Serve Day
DESCRIPTION:Save the date for Serve Day 2026 on Saturday\, July 25. Join us as we go out into the community to be the hands and feet of Jesus. This is a powerful opportunity for our church to come together and make a meaningful impact.
URL:https://thespiritchurch.org/eventcalendar/serve-day-2/
ATTACH;FMTTYPE=image/png:https://thespiritchurch.org/wp-content/uploads/2025/08/Upcoming-Event.png
END:VEVENT
BEGIN:VEVENT
DTSTART;TZID=UTC:20260726T090000
DTEND;TZID=UTC:20260726T110000
DTSTAMP:20260423T234523
CREATED:20260323T151522Z
LAST-MODIFIED:20260323T151522Z
UID:10000994-1785056400-1785063600@thespiritchurch.org
SUMMARY:Baptism Sunday
DESCRIPTION:Ready to take the next step in your faith journey? Water Baptism is a public declaration of the transformation happening inside you.\n\nBaptism Sign Up Link: https://the-spirit-church-67999.churchcenter.com/registrations/events/3544621
URL:https://thespiritchurch.org/eventcalendar/baptism-sunday-5/
ATTACH;FMTTYPE=image/jpeg:https://thespiritchurch.org/wp-content/uploads/2024/11/image-2-1.jpg
END:VEVENT
END:VCALENDAR