BEGIN:VCALENDAR
VERSION:2.0
PRODID:-//The Spirit Church - ECPv6.15.20//NONSGML v1.0//EN
CALSCALE:GREGORIAN
METHOD:PUBLISH
X-WR-CALNAME:The Spirit Church
X-ORIGINAL-URL:https://thespiritchurch.org
X-WR-CALDESC:Events for The Spirit Church
REFRESH-INTERVAL;VALUE=DURATION:PT1H
X-Robots-Tag:noindex
X-PUBLISHED-TTL:PT1H
BEGIN:VTIMEZONE
TZID:UTC
BEGIN:STANDARD
TZOFFSETFROM:+0000
TZOFFSETTO:+0000
TZNAME:UTC
DTSTART:20250101T000000
END:STANDARD
END:VTIMEZONE
BEGIN:VEVENT
DTSTART;VALUE=DATE:20260714
DTEND;VALUE=DATE:20260717
DTSTAMP:20260423T234523
CREATED:20260422T142322Z
LAST-MODIFIED:20260422T142705Z
UID:10001004-1783987200-1784246399@thespiritchurch.org
SUMMARY:Wise Kids Vacation Bible School
DESCRIPTION:Wise Kids is excited to host a FREE Vacation Bible School from July 14–16\, taking place each evening from 6:00 PM to 8:30 PM. Save the date. Registration will be opening soon\, and we will also be recruiting volunteers to help make this event a success. \nWe welcome children ages 3 to 11 to join us for three days of engaging activities\, games\, and crafts. Vacation Bible School is open to all children\, whether they attend The Spirit Church regularly or not.
URL:https://thespiritchurch.org/eventcalendar/wise-kids-vacation-bible-school/
ATTACH;FMTTYPE=image/png:https://thespiritchurch.org/wp-content/uploads/2025/08/Upcoming-Event.png
END:VEVENT
END:VCALENDAR