BEGIN:VCALENDAR
VERSION:2.0
PRODID:-//The Spirit Church - ECPv6.15.20//NONSGML v1.0//EN
CALSCALE:GREGORIAN
METHOD:PUBLISH
X-ORIGINAL-URL:https://thespiritchurch.org
X-WR-CALDESC:Events for The Spirit Church
REFRESH-INTERVAL;VALUE=DURATION:PT1H
X-Robots-Tag:noindex
X-PUBLISHED-TTL:PT1H
BEGIN:VTIMEZONE
TZID:UTC
BEGIN:STANDARD
TZOFFSETFROM:+0000
TZOFFSETTO:+0000
TZNAME:UTC
DTSTART:20250101T000000
END:STANDARD
END:VTIMEZONE
BEGIN:VEVENT
DTSTART;TZID=UTC:20260522T180000
DTEND;TZID=UTC:20260522T210000
DTSTAMP:20260424T000458
CREATED:20260410T191654Z
LAST-MODIFIED:20260413T190216Z
UID:10000997-1779472800-1779483600@thespiritchurch.org
SUMMARY:Next Up Block Party
DESCRIPTION:Join us for our Next Up Young Adults Block Party on Friday\, May 22\, at 6 PM! This free event is the perfect opportunity for young adults to connect\, build community\, and have fun. Enjoy catered BBQ\, games\, dancing\, and much more. \nBring your friends and come ready for a great time—we’d love to see you there! Be sure to register in advance to let us know you’re coming. \nRegister Here: https://the-spirit-church-67999.churchcenter.com/registrations/events/3581714
URL:https://thespiritchurch.org/eventcalendar/next-up-block-party/
ATTACH;FMTTYPE=image/png:https://thespiritchurch.org/wp-content/uploads/2026/04/Next-Up-Young-Adults-Block-Party-2026-ONLINE-1.png
END:VEVENT
BEGIN:VEVENT
DTSTART;TZID=UTC:20260524T153000
DTEND;TZID=UTC:20260524T173000
DTSTAMP:20260424T000458
CREATED:20260422T135034Z
LAST-MODIFIED:20260422T135217Z
UID:10001002-1779636600-1779643800@thespiritchurch.org
SUMMARY:RiSE Middle & High School Service
DESCRIPTION:This service is for our middle and high school students. We will only meet on the fourth Sunday in May.
URL:https://thespiritchurch.org/eventcalendar/rise-middle-high-school-service/
ATTACH;FMTTYPE=image/png:https://thespiritchurch.org/wp-content/uploads/2026/01/Updated-RiSE-ROLLING-SLIDE-5.png
END:VEVENT
END:VCALENDAR