BEGIN:VCALENDAR
VERSION:2.0
PRODID:-//The Spirit Church - ECPv6.15.20//NONSGML v1.0//EN
CALSCALE:GREGORIAN
METHOD:PUBLISH
X-ORIGINAL-URL:https://thespiritchurch.org
X-WR-CALDESC:Events for The Spirit Church
REFRESH-INTERVAL;VALUE=DURATION:PT1H
X-Robots-Tag:noindex
X-PUBLISHED-TTL:PT1H
BEGIN:VTIMEZONE
TZID:UTC
BEGIN:STANDARD
TZOFFSETFROM:+0000
TZOFFSETTO:+0000
TZNAME:UTC
DTSTART:20250101T000000
END:STANDARD
END:VTIMEZONE
BEGIN:VEVENT
DTSTART;TZID=UTC:20260406T190000
DTEND;TZID=UTC:20260406T210000
DTSTAMP:20260423T221539
CREATED:20241103T025113Z
LAST-MODIFIED:20241103T041902Z
UID:10000020-1775502000-1775509200@thespiritchurch.org
SUMMARY:Men's Locker Room
DESCRIPTION:Men’s Locker Room is our monthly Bible study where men gather for fellowship\, growth\, and a powerful message from Pastor Aeneas.
URL:https://thespiritchurch.org/eventcalendar/mens-locker-room/2026-04-06/
ATTACH;FMTTYPE=image/jpeg:https://thespiritchurch.org/wp-content/uploads/2024/11/image-2.jpg
END:VEVENT
BEGIN:VEVENT
DTSTART;TZID=UTC:20260411T110000
DTEND;TZID=UTC:20260411T133000
DTSTAMP:20260423T221539
CREATED:20251229T195128Z
LAST-MODIFIED:20260316T152108Z
UID:10000951-1775905200-1775914200@thespiritchurch.org
SUMMARY:Wise Steps Saturday (Membership Class)
DESCRIPTION:Interested in becoming a member of The Spirit Church?\nJoin us every second Saturday of the month at 11 a.m. for a streamlined\, fast-track experience where you can complete all four Wise Step classes in just one day. In these classes\, you’ll learn who we are and how we partner together. \nDon’t let a busy schedule hold you back—take the next step with us! Let us know you’re coming by clicking here to register. 
URL:https://thespiritchurch.org/eventcalendar/wise-steps-saturday-4/2026-04-11/
ATTACH;FMTTYPE=image/png:https://thespiritchurch.org/wp-content/uploads/2025/03/Copy-of-Wise-Steps-Signs-1.png
END:VEVENT
BEGIN:VEVENT
DTSTART;TZID=UTC:20260412T153000
DTEND;TZID=UTC:20260412T173000
DTSTAMP:20260423T221539
CREATED:20260112T215748Z
LAST-MODIFIED:20260112T215748Z
UID:10000969-1776007800-1776015000@thespiritchurch.org
SUMMARY:RiSE Middle School & High School Service
DESCRIPTION:This service is for our middle and high school students. We will meet on the 2nd and 4th Sundays in April.
URL:https://thespiritchurch.org/eventcalendar/rise-middle-school-high-school-service-8/
ATTACH;FMTTYPE=image/png:https://thespiritchurch.org/wp-content/uploads/2025/03/RiSE-Rolling-Slides.png
END:VEVENT
END:VCALENDAR