BEGIN:VCALENDAR
VERSION:2.0
PRODID:-//The Spirit Church - ECPv6.15.20//NONSGML v1.0//EN
CALSCALE:GREGORIAN
METHOD:PUBLISH
X-WR-CALNAME:The Spirit Church
X-ORIGINAL-URL:https://thespiritchurch.org
X-WR-CALDESC:Events for The Spirit Church
REFRESH-INTERVAL;VALUE=DURATION:PT1H
X-Robots-Tag:noindex
X-PUBLISHED-TTL:PT1H
BEGIN:VTIMEZONE
TZID:UTC
BEGIN:STANDARD
TZOFFSETFROM:+0000
TZOFFSETTO:+0000
TZNAME:UTC
DTSTART:20250101T000000
END:STANDARD
END:VTIMEZONE
BEGIN:VEVENT
DTSTART;TZID=UTC:20260215T104500
DTEND;TZID=UTC:20260215T120000
DTSTAMP:20260423T235627
CREATED:20260113T202524Z
LAST-MODIFIED:20260113T203310Z
UID:10000989-1771152300-1771156800@thespiritchurch.org
SUMMARY:New Believers Class
DESCRIPTION:The New Believers Class is designed for anyone who has recently accepted Christ. Our goal is to help you understand what it means to walk with Jesus and grow in your faith. This class meets every Sunday following the 9:00 a.m. service in the adult classroom.
URL:https://thespiritchurch.org/eventcalendar/new-believers-class/2026-02-15/
ATTACH;FMTTYPE=image/png:https://thespiritchurch.org/wp-content/uploads/2025/08/Final-Rolling-Slides-5-1.png
END:VEVENT
END:VCALENDAR