BEGIN:VCALENDAR
VERSION:2.0
PRODID:-//The Spirit Church - ECPv6.15.20//NONSGML v1.0//EN
CALSCALE:GREGORIAN
METHOD:PUBLISH
X-WR-CALNAME:The Spirit Church
X-ORIGINAL-URL:https://thespiritchurch.org
X-WR-CALDESC:Events for The Spirit Church
REFRESH-INTERVAL;VALUE=DURATION:PT1H
X-Robots-Tag:noindex
X-PUBLISHED-TTL:PT1H
BEGIN:VTIMEZONE
TZID:UTC
BEGIN:STANDARD
TZOFFSETFROM:+0000
TZOFFSETTO:+0000
TZNAME:UTC
DTSTART:20250101T000000
END:STANDARD
END:VTIMEZONE
BEGIN:VEVENT
DTSTART;TZID=UTC:20260123T180000
DTEND;TZID=UTC:20260123T200000
DTSTAMP:20260423T235046
CREATED:20260104T144013Z
LAST-MODIFIED:20260104T144014Z
UID:10000939-1769191200-1769198400@thespiritchurch.org
SUMMARY:Next Up Service
DESCRIPTION:Our Young Adult Service is canceled for the month of January. We will resume in February.
URL:https://thespiritchurch.org/eventcalendar/next-up-service-5-2/
ATTACH;FMTTYPE=image/png:https://thespiritchurch.org/wp-content/uploads/2025/05/NEXT-UP-CANCELED-1.png
END:VEVENT
BEGIN:VEVENT
DTSTART;VALUE=DATE:20260125
DTEND;VALUE=DATE:20260126
DTSTAMP:20260423T235046
CREATED:20260125T031628Z
LAST-MODIFIED:20260125T031628Z
UID:10000992-1769299200-1769385599@thespiritchurch.org
SUMMARY:In-Person Services Canceled – January 25
DESCRIPTION:Out of an abundance of caution and in alignment with the State of Emergency issued by the State of Missouri\, we will not be holding in-person services on Sunday\, January 25. \nThe safety of our church family\, our teams\, and our families is our top priority. \nChurch is still happening online! Join us online at 9:00 AM or 11:00 AM via YouTube\, Facebook\, or our website.
URL:https://thespiritchurch.org/eventcalendar/in-person-services-canceled-january-25/
ATTACH;FMTTYPE=image/png:https://thespiritchurch.org/wp-content/uploads/2026/01/Services-Canceled-Inclement-Weather-125-1-1.png
END:VEVENT
BEGIN:VEVENT
DTSTART;TZID=UTC:20260125T104500
DTEND;TZID=UTC:20260125T120000
DTSTAMP:20260423T235046
CREATED:20260113T202524Z
LAST-MODIFIED:20260113T203310Z
UID:10000986-1769337900-1769342400@thespiritchurch.org
SUMMARY:New Believers Class
DESCRIPTION:The New Believers Class is designed for anyone who has recently accepted Christ. Our goal is to help you understand what it means to walk with Jesus and grow in your faith. This class meets every Sunday following the 9:00 a.m. service in the adult classroom.
URL:https://thespiritchurch.org/eventcalendar/new-believers-class/2026-01-25/
ATTACH;FMTTYPE=image/png:https://thespiritchurch.org/wp-content/uploads/2025/08/Final-Rolling-Slides-5-1.png
END:VEVENT
BEGIN:VEVENT
DTSTART;TZID=UTC:20260125T153000
DTEND;TZID=UTC:20260125T173000
DTSTAMP:20260423T235046
CREATED:20260107T174444Z
LAST-MODIFIED:20260108T171345Z
UID:10000961-1769355000-1769362200@thespiritchurch.org
SUMMARY:RiSE Middle School & High School Service CANCELED
DESCRIPTION:This service is for middle and high school students. We will not be meeting on the 4th Sunday of January.
URL:https://thespiritchurch.org/eventcalendar/rise-middle-school-high-school-service-canceled/
ATTACH;FMTTYPE=image/png:https://thespiritchurch.org/wp-content/uploads/2026/01/RiSE-Canceled-1.png
END:VEVENT
END:VCALENDAR