BEGIN:VCALENDAR
VERSION:2.0
PRODID:-//The Spirit Church - ECPv6.15.20//NONSGML v1.0//EN
CALSCALE:GREGORIAN
METHOD:PUBLISH
X-WR-CALNAME:The Spirit Church
X-ORIGINAL-URL:https://thespiritchurch.org
X-WR-CALDESC:Events for The Spirit Church
REFRESH-INTERVAL;VALUE=DURATION:PT1H
X-Robots-Tag:noindex
X-PUBLISHED-TTL:PT1H
BEGIN:VTIMEZONE
TZID:UTC
BEGIN:STANDARD
TZOFFSETFROM:+0000
TZOFFSETTO:+0000
TZNAME:UTC
DTSTART:20270101T000000
END:STANDARD
END:VTIMEZONE
BEGIN:VEVENT
DTSTART;TZID=UTC:20280501T190000
DTEND;TZID=UTC:20280501T210000
DTSTAMP:20260423T191302
CREATED:20241103T025113Z
LAST-MODIFIED:20241103T041902Z
UID:10000045-1840820400-1840827600@thespiritchurch.org
SUMMARY:Men's Locker Room
DESCRIPTION:Men’s Locker Room is our monthly Bible study where men gather for fellowship\, growth\, and a powerful message from Pastor Aeneas.
URL:https://thespiritchurch.org/eventcalendar/mens-locker-room/2028-05-01/
ATTACH;FMTTYPE=image/jpeg:https://thespiritchurch.org/wp-content/uploads/2024/11/image-2.jpg
END:VEVENT
BEGIN:VEVENT
DTSTART;TZID=UTC:20280605T190000
DTEND;TZID=UTC:20280605T210000
DTSTAMP:20260423T191303
CREATED:20241103T025113Z
LAST-MODIFIED:20241103T041902Z
UID:10000046-1843844400-1843851600@thespiritchurch.org
SUMMARY:Men's Locker Room
DESCRIPTION:Men’s Locker Room is our monthly Bible study where men gather for fellowship\, growth\, and a powerful message from Pastor Aeneas.
URL:https://thespiritchurch.org/eventcalendar/mens-locker-room/2028-06-05/
ATTACH;FMTTYPE=image/jpeg:https://thespiritchurch.org/wp-content/uploads/2024/11/image-2.jpg
END:VEVENT
BEGIN:VEVENT
DTSTART;TZID=UTC:20280703T190000
DTEND;TZID=UTC:20280703T210000
DTSTAMP:20260423T191303
CREATED:20241103T025113Z
LAST-MODIFIED:20241103T041902Z
UID:10000047-1846263600-1846270800@thespiritchurch.org
SUMMARY:Men's Locker Room
DESCRIPTION:Men’s Locker Room is our monthly Bible study where men gather for fellowship\, growth\, and a powerful message from Pastor Aeneas.
URL:https://thespiritchurch.org/eventcalendar/mens-locker-room/2028-07-03/
ATTACH;FMTTYPE=image/jpeg:https://thespiritchurch.org/wp-content/uploads/2024/11/image-2.jpg
END:VEVENT
BEGIN:VEVENT
DTSTART;TZID=UTC:20280807T190000
DTEND;TZID=UTC:20280807T210000
DTSTAMP:20260423T191303
CREATED:20241103T025113Z
LAST-MODIFIED:20241103T041902Z
UID:10000048-1849287600-1849294800@thespiritchurch.org
SUMMARY:Men's Locker Room
DESCRIPTION:Men’s Locker Room is our monthly Bible study where men gather for fellowship\, growth\, and a powerful message from Pastor Aeneas.
URL:https://thespiritchurch.org/eventcalendar/mens-locker-room/2028-08-07/
ATTACH;FMTTYPE=image/jpeg:https://thespiritchurch.org/wp-content/uploads/2024/11/image-2.jpg
END:VEVENT
BEGIN:VEVENT
DTSTART;TZID=UTC:20280904T190000
DTEND;TZID=UTC:20280904T210000
DTSTAMP:20260423T191303
CREATED:20241103T025113Z
LAST-MODIFIED:20241103T041902Z
UID:10000049-1851706800-1851714000@thespiritchurch.org
SUMMARY:Men's Locker Room
DESCRIPTION:Men’s Locker Room is our monthly Bible study where men gather for fellowship\, growth\, and a powerful message from Pastor Aeneas.
URL:https://thespiritchurch.org/eventcalendar/mens-locker-room/2028-09-04/
ATTACH;FMTTYPE=image/jpeg:https://thespiritchurch.org/wp-content/uploads/2024/11/image-2.jpg
END:VEVENT
BEGIN:VEVENT
DTSTART;TZID=UTC:20281002T190000
DTEND;TZID=UTC:20281002T210000
DTSTAMP:20260423T191303
CREATED:20241103T025113Z
LAST-MODIFIED:20241103T041902Z
UID:10000050-1854126000-1854133200@thespiritchurch.org
SUMMARY:Men's Locker Room
DESCRIPTION:Men’s Locker Room is our monthly Bible study where men gather for fellowship\, growth\, and a powerful message from Pastor Aeneas.
URL:https://thespiritchurch.org/eventcalendar/mens-locker-room/2028-10-02/
ATTACH;FMTTYPE=image/jpeg:https://thespiritchurch.org/wp-content/uploads/2024/11/image-2.jpg
END:VEVENT
BEGIN:VEVENT
DTSTART;TZID=UTC:20281106T190000
DTEND;TZID=UTC:20281106T210000
DTSTAMP:20260423T191303
CREATED:20241103T025113Z
LAST-MODIFIED:20241103T041902Z
UID:10000051-1857150000-1857157200@thespiritchurch.org
SUMMARY:Men's Locker Room
DESCRIPTION:Men’s Locker Room is our monthly Bible study where men gather for fellowship\, growth\, and a powerful message from Pastor Aeneas.
URL:https://thespiritchurch.org/eventcalendar/mens-locker-room/2028-11-06/
ATTACH;FMTTYPE=image/jpeg:https://thespiritchurch.org/wp-content/uploads/2024/11/image-2.jpg
END:VEVENT
BEGIN:VEVENT
DTSTART;TZID=UTC:20281204T190000
DTEND;TZID=UTC:20281204T210000
DTSTAMP:20260423T191303
CREATED:20241103T025113Z
LAST-MODIFIED:20241103T041902Z
UID:10000052-1859569200-1859576400@thespiritchurch.org
SUMMARY:Men's Locker Room
DESCRIPTION:Men’s Locker Room is our monthly Bible study where men gather for fellowship\, growth\, and a powerful message from Pastor Aeneas.
URL:https://thespiritchurch.org/eventcalendar/mens-locker-room/2028-12-04/
ATTACH;FMTTYPE=image/jpeg:https://thespiritchurch.org/wp-content/uploads/2024/11/image-2.jpg
END:VEVENT
BEGIN:VEVENT
DTSTART;TZID=UTC:20290101T190000
DTEND;TZID=UTC:20290101T210000
DTSTAMP:20260423T191303
CREATED:20241103T025113Z
LAST-MODIFIED:20241103T041902Z
UID:10000053-1861988400-1861995600@thespiritchurch.org
SUMMARY:Men's Locker Room
DESCRIPTION:Men’s Locker Room is our monthly Bible study where men gather for fellowship\, growth\, and a powerful message from Pastor Aeneas.
URL:https://thespiritchurch.org/eventcalendar/mens-locker-room/2029-01-01/
ATTACH;FMTTYPE=image/jpeg:https://thespiritchurch.org/wp-content/uploads/2024/11/image-2.jpg
END:VEVENT
BEGIN:VEVENT
DTSTART;TZID=UTC:20290205T190000
DTEND;TZID=UTC:20290205T210000
DTSTAMP:20260423T191303
CREATED:20241103T025113Z
LAST-MODIFIED:20241103T041902Z
UID:10000054-1865012400-1865019600@thespiritchurch.org
SUMMARY:Men's Locker Room
DESCRIPTION:Men’s Locker Room is our monthly Bible study where men gather for fellowship\, growth\, and a powerful message from Pastor Aeneas.
URL:https://thespiritchurch.org/eventcalendar/mens-locker-room/2029-02-05/
ATTACH;FMTTYPE=image/jpeg:https://thespiritchurch.org/wp-content/uploads/2024/11/image-2.jpg
END:VEVENT
BEGIN:VEVENT
DTSTART;TZID=UTC:20290305T190000
DTEND;TZID=UTC:20290305T210000
DTSTAMP:20260423T191303
CREATED:20241103T025113Z
LAST-MODIFIED:20241103T041902Z
UID:10000055-1867431600-1867438800@thespiritchurch.org
SUMMARY:Men's Locker Room
DESCRIPTION:Men’s Locker Room is our monthly Bible study where men gather for fellowship\, growth\, and a powerful message from Pastor Aeneas.
URL:https://thespiritchurch.org/eventcalendar/mens-locker-room/2029-03-05/
ATTACH;FMTTYPE=image/jpeg:https://thespiritchurch.org/wp-content/uploads/2024/11/image-2.jpg
END:VEVENT
BEGIN:VEVENT
DTSTART;TZID=UTC:20290402T190000
DTEND;TZID=UTC:20290402T210000
DTSTAMP:20260423T191303
CREATED:20241103T025113Z
LAST-MODIFIED:20241103T041902Z
UID:10000056-1869850800-1869858000@thespiritchurch.org
SUMMARY:Men's Locker Room
DESCRIPTION:Men’s Locker Room is our monthly Bible study where men gather for fellowship\, growth\, and a powerful message from Pastor Aeneas.
URL:https://thespiritchurch.org/eventcalendar/mens-locker-room/2029-04-02/
ATTACH;FMTTYPE=image/jpeg:https://thespiritchurch.org/wp-content/uploads/2024/11/image-2.jpg
END:VEVENT
BEGIN:VEVENT
DTSTART;TZID=UTC:20290507T190000
DTEND;TZID=UTC:20290507T210000
DTSTAMP:20260423T191303
CREATED:20241103T025113Z
LAST-MODIFIED:20241103T041902Z
UID:10000057-1872874800-1872882000@thespiritchurch.org
SUMMARY:Men's Locker Room
DESCRIPTION:Men’s Locker Room is our monthly Bible study where men gather for fellowship\, growth\, and a powerful message from Pastor Aeneas.
URL:https://thespiritchurch.org/eventcalendar/mens-locker-room/2029-05-07/
ATTACH;FMTTYPE=image/jpeg:https://thespiritchurch.org/wp-content/uploads/2024/11/image-2.jpg
END:VEVENT
BEGIN:VEVENT
DTSTART;TZID=UTC:20290604T190000
DTEND;TZID=UTC:20290604T210000
DTSTAMP:20260423T191303
CREATED:20241103T025113Z
LAST-MODIFIED:20241103T041902Z
UID:10000058-1875294000-1875301200@thespiritchurch.org
SUMMARY:Men's Locker Room
DESCRIPTION:Men’s Locker Room is our monthly Bible study where men gather for fellowship\, growth\, and a powerful message from Pastor Aeneas.
URL:https://thespiritchurch.org/eventcalendar/mens-locker-room/2029-06-04/
ATTACH;FMTTYPE=image/jpeg:https://thespiritchurch.org/wp-content/uploads/2024/11/image-2.jpg
END:VEVENT
BEGIN:VEVENT
DTSTART;TZID=UTC:20290702T190000
DTEND;TZID=UTC:20290702T210000
DTSTAMP:20260423T191303
CREATED:20241103T025113Z
LAST-MODIFIED:20241103T041902Z
UID:10000059-1877713200-1877720400@thespiritchurch.org
SUMMARY:Men's Locker Room
DESCRIPTION:Men’s Locker Room is our monthly Bible study where men gather for fellowship\, growth\, and a powerful message from Pastor Aeneas.
URL:https://thespiritchurch.org/eventcalendar/mens-locker-room/2029-07-02/
ATTACH;FMTTYPE=image/jpeg:https://thespiritchurch.org/wp-content/uploads/2024/11/image-2.jpg
END:VEVENT
BEGIN:VEVENT
DTSTART;TZID=UTC:20290806T190000
DTEND;TZID=UTC:20290806T210000
DTSTAMP:20260423T191303
CREATED:20241103T025113Z
LAST-MODIFIED:20241103T041902Z
UID:10000060-1880737200-1880744400@thespiritchurch.org
SUMMARY:Men's Locker Room
DESCRIPTION:Men’s Locker Room is our monthly Bible study where men gather for fellowship\, growth\, and a powerful message from Pastor Aeneas.
URL:https://thespiritchurch.org/eventcalendar/mens-locker-room/2029-08-06/
ATTACH;FMTTYPE=image/jpeg:https://thespiritchurch.org/wp-content/uploads/2024/11/image-2.jpg
END:VEVENT
BEGIN:VEVENT
DTSTART;TZID=UTC:20290903T190000
DTEND;TZID=UTC:20290903T210000
DTSTAMP:20260423T191303
CREATED:20241103T025113Z
LAST-MODIFIED:20241103T041902Z
UID:10000061-1883156400-1883163600@thespiritchurch.org
SUMMARY:Men's Locker Room
DESCRIPTION:Men’s Locker Room is our monthly Bible study where men gather for fellowship\, growth\, and a powerful message from Pastor Aeneas.
URL:https://thespiritchurch.org/eventcalendar/mens-locker-room/2029-09-03/
ATTACH;FMTTYPE=image/jpeg:https://thespiritchurch.org/wp-content/uploads/2024/11/image-2.jpg
END:VEVENT
BEGIN:VEVENT
DTSTART;TZID=UTC:20291001T190000
DTEND;TZID=UTC:20291001T210000
DTSTAMP:20260423T191303
CREATED:20241103T025113Z
LAST-MODIFIED:20241103T041902Z
UID:10000062-1885575600-1885582800@thespiritchurch.org
SUMMARY:Men's Locker Room
DESCRIPTION:Men’s Locker Room is our monthly Bible study where men gather for fellowship\, growth\, and a powerful message from Pastor Aeneas.
URL:https://thespiritchurch.org/eventcalendar/mens-locker-room/2029-10-01/
ATTACH;FMTTYPE=image/jpeg:https://thespiritchurch.org/wp-content/uploads/2024/11/image-2.jpg
END:VEVENT
BEGIN:VEVENT
DTSTART;TZID=UTC:20291105T190000
DTEND;TZID=UTC:20291105T210000
DTSTAMP:20260423T191303
CREATED:20241103T025113Z
LAST-MODIFIED:20241103T041902Z
UID:10000403-1888599600-1888606800@thespiritchurch.org
SUMMARY:Men's Locker Room
DESCRIPTION:Men’s Locker Room is our monthly Bible study where men gather for fellowship\, growth\, and a powerful message from Pastor Aeneas.
URL:https://thespiritchurch.org/eventcalendar/mens-locker-room/2029-11-05/
ATTACH;FMTTYPE=image/jpeg:https://thespiritchurch.org/wp-content/uploads/2024/11/image-2.jpg
END:VEVENT
BEGIN:VEVENT
DTSTART;TZID=UTC:20291203T190000
DTEND;TZID=UTC:20291203T210000
DTSTAMP:20260423T191303
CREATED:20241103T025113Z
LAST-MODIFIED:20241103T041902Z
UID:10000404-1891018800-1891026000@thespiritchurch.org
SUMMARY:Men's Locker Room
DESCRIPTION:Men’s Locker Room is our monthly Bible study where men gather for fellowship\, growth\, and a powerful message from Pastor Aeneas.
URL:https://thespiritchurch.org/eventcalendar/mens-locker-room/2029-12-03/
ATTACH;FMTTYPE=image/jpeg:https://thespiritchurch.org/wp-content/uploads/2024/11/image-2.jpg
END:VEVENT
BEGIN:VEVENT
DTSTART;TZID=UTC:20300107T190000
DTEND;TZID=UTC:20300107T210000
DTSTAMP:20260423T191303
CREATED:20241103T025113Z
LAST-MODIFIED:20241103T041902Z
UID:10000871-1894042800-1894050000@thespiritchurch.org
SUMMARY:Men's Locker Room
DESCRIPTION:Men’s Locker Room is our monthly Bible study where men gather for fellowship\, growth\, and a powerful message from Pastor Aeneas.
URL:https://thespiritchurch.org/eventcalendar/mens-locker-room/2030-01-07/
ATTACH;FMTTYPE=image/jpeg:https://thespiritchurch.org/wp-content/uploads/2024/11/image-2.jpg
END:VEVENT
BEGIN:VEVENT
DTSTART;TZID=UTC:20300204T190000
DTEND;TZID=UTC:20300204T210000
DTSTAMP:20260423T191303
CREATED:20241103T025113Z
LAST-MODIFIED:20241103T041902Z
UID:10000872-1896462000-1896469200@thespiritchurch.org
SUMMARY:Men's Locker Room
DESCRIPTION:Men’s Locker Room is our monthly Bible study where men gather for fellowship\, growth\, and a powerful message from Pastor Aeneas.
URL:https://thespiritchurch.org/eventcalendar/mens-locker-room/2030-02-04/
ATTACH;FMTTYPE=image/jpeg:https://thespiritchurch.org/wp-content/uploads/2024/11/image-2.jpg
END:VEVENT
BEGIN:VEVENT
DTSTART;TZID=UTC:20300304T190000
DTEND;TZID=UTC:20300304T210000
DTSTAMP:20260423T191303
CREATED:20241103T025113Z
LAST-MODIFIED:20241103T041902Z
UID:10000873-1898881200-1898888400@thespiritchurch.org
SUMMARY:Men's Locker Room
DESCRIPTION:Men’s Locker Room is our monthly Bible study where men gather for fellowship\, growth\, and a powerful message from Pastor Aeneas.
URL:https://thespiritchurch.org/eventcalendar/mens-locker-room/2030-03-04/
ATTACH;FMTTYPE=image/jpeg:https://thespiritchurch.org/wp-content/uploads/2024/11/image-2.jpg
END:VEVENT
BEGIN:VEVENT
DTSTART;TZID=UTC:20300401T190000
DTEND;TZID=UTC:20300401T210000
DTSTAMP:20260423T191303
CREATED:20241103T025113Z
LAST-MODIFIED:20241103T041902Z
UID:10000874-1901300400-1901307600@thespiritchurch.org
SUMMARY:Men's Locker Room
DESCRIPTION:Men’s Locker Room is our monthly Bible study where men gather for fellowship\, growth\, and a powerful message from Pastor Aeneas.
URL:https://thespiritchurch.org/eventcalendar/mens-locker-room/2030-04-01/
ATTACH;FMTTYPE=image/jpeg:https://thespiritchurch.org/wp-content/uploads/2024/11/image-2.jpg
END:VEVENT
BEGIN:VEVENT
DTSTART;TZID=UTC:20300506T190000
DTEND;TZID=UTC:20300506T210000
DTSTAMP:20260423T191303
CREATED:20241103T025113Z
LAST-MODIFIED:20241103T041902Z
UID:10000892-1904324400-1904331600@thespiritchurch.org
SUMMARY:Men's Locker Room
DESCRIPTION:Men’s Locker Room is our monthly Bible study where men gather for fellowship\, growth\, and a powerful message from Pastor Aeneas.
URL:https://thespiritchurch.org/eventcalendar/mens-locker-room/2030-05-06/
ATTACH;FMTTYPE=image/jpeg:https://thespiritchurch.org/wp-content/uploads/2024/11/image-2.jpg
END:VEVENT
BEGIN:VEVENT
DTSTART;TZID=UTC:20300603T190000
DTEND;TZID=UTC:20300603T210000
DTSTAMP:20260423T191303
CREATED:20241103T025113Z
LAST-MODIFIED:20241103T041902Z
UID:10000893-1906743600-1906750800@thespiritchurch.org
SUMMARY:Men's Locker Room
DESCRIPTION:Men’s Locker Room is our monthly Bible study where men gather for fellowship\, growth\, and a powerful message from Pastor Aeneas.
URL:https://thespiritchurch.org/eventcalendar/mens-locker-room/2030-06-03/
ATTACH;FMTTYPE=image/jpeg:https://thespiritchurch.org/wp-content/uploads/2024/11/image-2.jpg
END:VEVENT
BEGIN:VEVENT
DTSTART;TZID=UTC:20300701T190000
DTEND;TZID=UTC:20300701T210000
DTSTAMP:20260423T191303
CREATED:20241103T025113Z
LAST-MODIFIED:20241103T041902Z
UID:10000908-1909162800-1909170000@thespiritchurch.org
SUMMARY:Men's Locker Room
DESCRIPTION:Men’s Locker Room is our monthly Bible study where men gather for fellowship\, growth\, and a powerful message from Pastor Aeneas.
URL:https://thespiritchurch.org/eventcalendar/mens-locker-room/2030-07-01/
ATTACH;FMTTYPE=image/jpeg:https://thespiritchurch.org/wp-content/uploads/2024/11/image-2.jpg
END:VEVENT
BEGIN:VEVENT
DTSTART;TZID=UTC:20300805T190000
DTEND;TZID=UTC:20300805T210000
DTSTAMP:20260423T191303
CREATED:20241103T025113Z
LAST-MODIFIED:20241103T041902Z
UID:10000909-1912186800-1912194000@thespiritchurch.org
SUMMARY:Men's Locker Room
DESCRIPTION:Men’s Locker Room is our monthly Bible study where men gather for fellowship\, growth\, and a powerful message from Pastor Aeneas.
URL:https://thespiritchurch.org/eventcalendar/mens-locker-room/2030-08-05/
ATTACH;FMTTYPE=image/jpeg:https://thespiritchurch.org/wp-content/uploads/2024/11/image-2.jpg
END:VEVENT
BEGIN:VEVENT
DTSTART;TZID=UTC:20300902T190000
DTEND;TZID=UTC:20300902T210000
DTSTAMP:20260423T191303
CREATED:20241103T025113Z
LAST-MODIFIED:20241103T041902Z
UID:10000928-1914606000-1914613200@thespiritchurch.org
SUMMARY:Men's Locker Room
DESCRIPTION:Men’s Locker Room is our monthly Bible study where men gather for fellowship\, growth\, and a powerful message from Pastor Aeneas.
URL:https://thespiritchurch.org/eventcalendar/mens-locker-room/2030-09-02/
ATTACH;FMTTYPE=image/jpeg:https://thespiritchurch.org/wp-content/uploads/2024/11/image-2.jpg
END:VEVENT
BEGIN:VEVENT
DTSTART;TZID=UTC:20301007T190000
DTEND;TZID=UTC:20301007T210000
DTSTAMP:20260423T191303
CREATED:20241103T025113Z
LAST-MODIFIED:20241103T041902Z
UID:10000929-1917630000-1917637200@thespiritchurch.org
SUMMARY:Men's Locker Room
DESCRIPTION:Men’s Locker Room is our monthly Bible study where men gather for fellowship\, growth\, and a powerful message from Pastor Aeneas.
URL:https://thespiritchurch.org/eventcalendar/mens-locker-room/2030-10-07/
ATTACH;FMTTYPE=image/jpeg:https://thespiritchurch.org/wp-content/uploads/2024/11/image-2.jpg
END:VEVENT
END:VCALENDAR