BEGIN:VCALENDAR
VERSION:2.0
PRODID:-//The Spirit Church - ECPv6.15.20//NONSGML v1.0//EN
CALSCALE:GREGORIAN
METHOD:PUBLISH
X-ORIGINAL-URL:https://thespiritchurch.org
X-WR-CALDESC:Events for The Spirit Church
REFRESH-INTERVAL;VALUE=DURATION:PT1H
X-Robots-Tag:noindex
X-PUBLISHED-TTL:PT1H
BEGIN:VTIMEZONE
TZID:UTC
BEGIN:STANDARD
TZOFFSETFROM:+0000
TZOFFSETTO:+0000
TZNAME:UTC
DTSTART:20240101T000000
END:STANDARD
END:VTIMEZONE
BEGIN:VEVENT
DTSTART;TZID=UTC:20260125T153000
DTEND;TZID=UTC:20260125T173000
DTSTAMP:20260423T222950
CREATED:20260107T174444Z
LAST-MODIFIED:20260108T171345Z
UID:10000961-1769355000-1769362200@thespiritchurch.org
SUMMARY:RiSE Middle School & High School Service CANCELED
DESCRIPTION:This service is for middle and high school students. We will not be meeting on the 4th Sunday of January.
URL:https://thespiritchurch.org/eventcalendar/rise-middle-school-high-school-service-canceled/
ATTACH;FMTTYPE=image/png:https://thespiritchurch.org/wp-content/uploads/2026/01/RiSE-Canceled-1.png
END:VEVENT
BEGIN:VEVENT
DTSTART;TZID=UTC:20260125T104500
DTEND;TZID=UTC:20260125T120000
DTSTAMP:20260423T222950
CREATED:20260113T202524Z
LAST-MODIFIED:20260113T203310Z
UID:10000986-1769337900-1769342400@thespiritchurch.org
SUMMARY:New Believers Class
DESCRIPTION:The New Believers Class is designed for anyone who has recently accepted Christ. Our goal is to help you understand what it means to walk with Jesus and grow in your faith. This class meets every Sunday following the 9:00 a.m. service in the adult classroom.
URL:https://thespiritchurch.org/eventcalendar/new-believers-class/2026-01-25/
ATTACH;FMTTYPE=image/png:https://thespiritchurch.org/wp-content/uploads/2025/08/Final-Rolling-Slides-5-1.png
END:VEVENT
BEGIN:VEVENT
DTSTART;VALUE=DATE:20260125
DTEND;VALUE=DATE:20260126
DTSTAMP:20260423T222950
CREATED:20260125T031628Z
LAST-MODIFIED:20260125T031628Z
UID:10000992-1769299200-1769385599@thespiritchurch.org
SUMMARY:In-Person Services Canceled – January 25
DESCRIPTION:Out of an abundance of caution and in alignment with the State of Emergency issued by the State of Missouri\, we will not be holding in-person services on Sunday\, January 25. \nThe safety of our church family\, our teams\, and our families is our top priority. \nChurch is still happening online! Join us online at 9:00 AM or 11:00 AM via YouTube\, Facebook\, or our website.
URL:https://thespiritchurch.org/eventcalendar/in-person-services-canceled-january-25/
ATTACH;FMTTYPE=image/png:https://thespiritchurch.org/wp-content/uploads/2026/01/Services-Canceled-Inclement-Weather-125-1-1.png
END:VEVENT
BEGIN:VEVENT
DTSTART;TZID=UTC:20260123T180000
DTEND;TZID=UTC:20260123T200000
DTSTAMP:20260423T222950
CREATED:20260104T144013Z
LAST-MODIFIED:20260104T144014Z
UID:10000939-1769191200-1769198400@thespiritchurch.org
SUMMARY:Next Up Service
DESCRIPTION:Our Young Adult Service is canceled for the month of January. We will resume in February.
URL:https://thespiritchurch.org/eventcalendar/next-up-service-5-2/
ATTACH;FMTTYPE=image/png:https://thespiritchurch.org/wp-content/uploads/2025/05/NEXT-UP-CANCELED-1.png
END:VEVENT
BEGIN:VEVENT
DTSTART;TZID=UTC:20260118T104500
DTEND;TZID=UTC:20260118T120000
DTSTAMP:20260423T222950
CREATED:20260113T202524Z
LAST-MODIFIED:20260113T203310Z
UID:10000985-1768733100-1768737600@thespiritchurch.org
SUMMARY:New Believers Class
DESCRIPTION:The New Believers Class is designed for anyone who has recently accepted Christ. Our goal is to help you understand what it means to walk with Jesus and grow in your faith. This class meets every Sunday following the 9:00 a.m. service in the adult classroom.
URL:https://thespiritchurch.org/eventcalendar/new-believers-class/2026-01-18/
ATTACH;FMTTYPE=image/png:https://thespiritchurch.org/wp-content/uploads/2025/08/Final-Rolling-Slides-5-1.png
END:VEVENT
BEGIN:VEVENT
DTSTART;TZID=UTC:20260116T190000
DTEND;TZID=UTC:20260116T210000
DTSTAMP:20260423T222950
CREATED:20251229T190544Z
LAST-MODIFIED:20251229T212230Z
UID:10000933-1768590000-1768597200@thespiritchurch.org
SUMMARY:Wonder Women Vision Board Party
DESCRIPTION:Calling All Wonder Women!\nIt’s time for our annual Vision Board Party! Start the year off right by seeking the Lord and writing down the vision\, making it plain as inspired by Habakkuk 2:2-3. Invite your friends and join us for an evening filled with fun and vision casting for 2026. \nDon’t forget to bring your own supplies; poster boards will be on sale for $2! \nPlease note: No childcare will be provided.
URL:https://thespiritchurch.org/eventcalendar/wonder-women-vision-board-party-2/
ATTACH;FMTTYPE=image/png:https://thespiritchurch.org/wp-content/uploads/2025/12/WW-Vision-Board-Party-Graphic-FINAL-WEB.png
END:VEVENT
BEGIN:VEVENT
DTSTART;TZID=UTC:20260111T153000
DTEND;TZID=UTC:20260111T173000
DTSTAMP:20260423T222950
CREATED:20251229T191140Z
LAST-MODIFIED:20251229T191140Z
UID:10000935-1768145400-1768152600@thespiritchurch.org
SUMMARY:RiSE Middle School & High School Service
DESCRIPTION:This service is for middle and high school students. Meets every second and fourth Sunday of the month from 3:30 pm to 5:30 pm.
URL:https://thespiritchurch.org/eventcalendar/rise-middle-school-high-school-service-5/
ATTACH;FMTTYPE=image/png:https://thespiritchurch.org/wp-content/uploads/2025/03/RiSE-Rolling-Slides.png
END:VEVENT
BEGIN:VEVENT
DTSTART;TZID=UTC:20260110T110000
DTEND;TZID=UTC:20260110T133000
DTSTAMP:20260423T222950
CREATED:20251229T195128Z
LAST-MODIFIED:20260316T152108Z
UID:10000948-1768042800-1768051800@thespiritchurch.org
SUMMARY:Wise Steps Saturday (Membership Class)
DESCRIPTION:Interested in becoming a member of The Spirit Church?\nJoin us every second Saturday of the month at 11 a.m. for a streamlined\, fast-track experience where you can complete all four Wise Step classes in just one day. In these classes\, you’ll learn who we are and how we partner together. \nDon’t let a busy schedule hold you back—take the next step with us! Let us know you’re coming by clicking here to register. 
URL:https://thespiritchurch.org/eventcalendar/wise-steps-saturday-4/2026-01-10/
ATTACH;FMTTYPE=image/png:https://thespiritchurch.org/wp-content/uploads/2025/03/Copy-of-Wise-Steps-Signs-1.png
END:VEVENT
BEGIN:VEVENT
DTSTART;TZID=UTC:20260105T190000
DTEND;TZID=UTC:20260105T210000
DTSTAMP:20260423T222950
CREATED:20251217T195331Z
LAST-MODIFIED:20251217T195340Z
UID:10000017-1767639600-1767646800@thespiritchurch.org
SUMMARY:Men's Locker Room CANCELED
DESCRIPTION:Men’s Locker Room is CANCELED for the month of January. We will resume on the first Monday in February.
URL:https://thespiritchurch.org/eventcalendar/mens-locker-room-9/
ATTACH;FMTTYPE=image/png:https://thespiritchurch.org/wp-content/uploads/2024/11/Mens-Locker-Room-2.png
END:VEVENT
BEGIN:VEVENT
DTSTART;VALUE=DATE:20260104
DTEND;VALUE=DATE:20260115
DTSTAMP:20260423T222950
CREATED:20251217T201825Z
LAST-MODIFIED:20260104T215105Z
UID:10000932-1767484800-1768435199@thespiritchurch.org
SUMMARY:10 Days of Prayer & Fasting
DESCRIPTION:Join us for 10 intentional days of seeking the Lord through prayer and fasting. We will kick off on Monday\, January 5\, and continue through January 14. We will be corporately participating in the Daniel Fast—see the information below for details. \nWe will not be meeting for in-person prayer; however\, each day at 9 a.m.\, 12 p.m.\, and 3 p.m.\, we invite everyone to pray in the Spirit and take time for personal prayer. \nDaniel Fast Information \nFOODS TO EAT \n\nWhole grains: Amaranth\, barley\, brown rice\, buckwheat\, bulgur\, freekeh\, millet\, oats\, purple rice\, quinoa\, rye\, sorghum\, spelt\, teff\, whole-grain pasta\, whole wheat\, and wild rice.\nBeans and legumes: Black beans\, black-eyed peas\, cannellini beans\, garbanzo beans (chickpeas)\, Great Northern beans\, kidney beans\, lentils\, peanuts\, pinto beans\, and split peas.\nNuts and seeds: Almonds\, Brazil nuts\, cashews\, hazelnuts\, macadamia nuts\, nut butters\, peanuts (technically legumes but commonly considered nuts)\, pecans\, pepitas (pumpkin seeds)\, pine nuts\, pistachios\, poppy seeds\, walnuts\, sesame seeds\, soy nuts\, and sunflower seeds.\nVegetables: All vegetables are allowed (fresh\, frozen\, dried\, juiced\, or canned).\nFruit: All fruit is allowed (fresh\, frozen\, dried\, juiced\, or canned). Dried fruit should not contain added sugar—check the ingredients to be sure.\nOils: Coconut\, olive\, and sesame oils are allowed but should be used sparingly. Sautéing is acceptable; avoid deep-frying.\nOther: Unleavened bread (whole-grain bread made without yeast\, sugars\, or preservatives). All herbs\, spices\, and seasonings are allowed\, including salt and pepper.\nBeverages: Water should be the primary beverage. Distilled\, filtered\, sparkling\, spring\, and mineral water are allowed. 100% fruit juice may be consumed occasionally.\n\nFOODS TO AVOID \n\nAnimal products: Meat (bacon\, beef\, bison\, chicken\, lamb\, pork\, and turkey)\, dairy (butter\, cheese\, cream\, milk\, and yogurt)\, fish and seafood\, and eggs.\nAdded sugars: Agave nectar\, artificial sweeteners\, brown rice syrup\, brown sugar\, cane juice\, corn syrup\, honey\, malt syrup\, molasses\, and raw sugar.\nYeast: Yeast and leavened bread.\nRefined grains: White flour and white rice. Only whole grains are permitted.\nProcessed foods: Foods containing artificial flavorings\, chemicals\, additives\, or preservatives.\nDeep-fried foods: Corn chips\, French fries\, and potato chips. Baked chips may be acceptable if they contain no restricted ingredients.\nSolid fats: Butter\, lard\, margarine\, and shortening.\nChocolate: Milk chocolate\, semi-sweet chocolate\, dark chocolate\, chocolate syrup\, and cacao.\nCaffeinated and alcoholic beverages: Alcohol\, coffee\, caffeinated tea\, and energy drinks.\n\n  \n 
URL:https://thespiritchurch.org/eventcalendar/21-days-of-prayer-fasting/
ATTACH;FMTTYPE=image/png:https://thespiritchurch.org/wp-content/uploads/2025/12/21-Days-of-Fasting-Prayer-PLATFORM.png.png
END:VEVENT
BEGIN:VEVENT
DTSTART;TZID=UTC:20251231T220000
DTEND;TZID=UTC:20260101T013000
DTSTAMP:20260423T222950
CREATED:20251102T144518Z
LAST-MODIFIED:20251104T210018Z
UID:10000925-1767218400-1767231000@thespiritchurch.org
SUMMARY:New Year's Eve Celebration: Suits & Sequins III
DESCRIPTION:Step into the New Year with style and joy at Spirit Church’s New Year’s Eve Celebration! Join us on Wednesday\, December 31\, at 10 p.m. for an unforgettable evening featuring uplifting worship\, a brief and inspiring message to set the tone for the year ahead\, and an electrifying countdown to welcome new beginnings. \n  \nBut the excitement doesn’t end there – after the countdown\, the celebration continues with a dazzling after-party! Come dressed to IMPRESS in your finest suits and sequins\, as we dance\, laugh\, and fellowship together into the early hours of the new year. Let’s welcome the New Year in style at the Spirit Church!
URL:https://thespiritchurch.org/eventcalendar/new-years-eve-celebration-suits-sequins/
ATTACH;FMTTYPE=image/png:https://thespiritchurch.org/wp-content/uploads/2025/11/NYE-Celebration-2025-WEB.png
END:VEVENT
BEGIN:VEVENT
DTSTART;TZID=UTC:20251224T160000
DTEND;TZID=UTC:20251224T171500
DTSTAMP:20260423T222950
CREATED:20250924T134604Z
LAST-MODIFIED:20251016T170423Z
UID:10000918-1766592000-1766596500@thespiritchurch.org
SUMMARY:Christmas Eve Candlelight Family Service
DESCRIPTION:Come gather with us on Christmas Eve\, Wednesday\, December 24\,  at 4 p.m. Join us for a beautiful Candlelight Service\, where we will celebrate the hope and joy of Christ’s birth through music\, scripture\, and the warm glow of candles. It’s a special time to reflect on the true meaning of Christmas and share in the light of God’s love. All are invited to join in this meaningful tradition. \n*Childcare provided for children 5 and under
URL:https://thespiritchurch.org/eventcalendar/christmas-eve-candlelight-family-service-2/
ATTACH;FMTTYPE=image/png:https://thespiritchurch.org/wp-content/uploads/2025/09/Christmas-Eve-Candlelight-Family-Service-WEB.png
END:VEVENT
BEGIN:VEVENT
DTSTART;VALUE=DATE:20251221
DTEND;VALUE=DATE:20251222
DTSTAMP:20260423T222950
CREATED:20251109T181511Z
LAST-MODIFIED:20251109T181511Z
UID:10000927-1766275200-1766361599@thespiritchurch.org
SUMMARY:Ugly Christmas Sweater Sunday
DESCRIPTION:Join us for our festive annual Ugly Christmas Sweater Sunday! Come dressed in your favorite holiday sweater and celebrate with us. After both services\, be sure to stop by our family photo booths. We look forward to celebrating with you!
URL:https://thespiritchurch.org/eventcalendar/ugly-christmas-sweater-sunday-2/
ATTACH;FMTTYPE=image/png:https://thespiritchurch.org/wp-content/uploads/2025/11/Ugly-Christmas-Sweater-Sunday-WEB.png
END:VEVENT
BEGIN:VEVENT
DTSTART;TZID=UTC:20251214T153000
DTEND;TZID=UTC:20251214T173000
DTSTAMP:20260423T222950
CREATED:20250924T134211Z
LAST-MODIFIED:20250924T140432Z
UID:10000917-1765726200-1765733400@thespiritchurch.org
SUMMARY:RiSE Christmas Party
DESCRIPTION:RiSE Annual Christmas Bash! Join us on Sunday\, December 14\, from 3:30 p.m. to 5:30 p.m. for an afternoon filled with holiday fun\, games\, food\, and more! This event is open to all Middle School and High School students — don’t miss it!
URL:https://thespiritchurch.org/eventcalendar/rise-service-christmas-bash/
ATTACH;FMTTYPE=image/png:https://thespiritchurch.org/wp-content/uploads/2025/09/Rise-Christmas-Party-3.png
END:VEVENT
BEGIN:VEVENT
DTSTART;TZID=UTC:20251206T090000
DTEND;TZID=UTC:20251206T123000
DTSTAMP:20260423T222950
CREATED:20251021T193235Z
LAST-MODIFIED:20251021T194520Z
UID:10000923-1765011600-1765024200@thespiritchurch.org
SUMMARY:Surviving The Holidays: Session 2
DESCRIPTION:“Surviving the Holidays” sessions offer compassionate support for individuals coping with grief due to the loss of loved ones\, divorce\, or separation. These sessions provide guidance and foster a sense of community to help navigate the emotional challenges of the holiday season. \nJoin us on Saturday\, December 6th\, at 9:00 a.m. We will have two separate groups: GriefShare and DivorceCare.  \nLink to Register: https://the-spirit-church-67999.churchcenter.com/registrations/events/3231305
URL:https://thespiritchurch.org/eventcalendar/surviving-the-holidays-session-2-2/
ATTACH;FMTTYPE=image/png:https://thespiritchurch.org/wp-content/uploads/2025/10/Surviving-The-Holidays-2024-1.png
END:VEVENT
BEGIN:VEVENT
DTSTART;TZID=UTC:20251205T190000
DTEND;TZID=UTC:20251205T220000
DTSTAMP:20260423T222950
CREATED:20250924T133105Z
LAST-MODIFIED:20251105T162807Z
UID:10000916-1764961200-1764972000@thespiritchurch.org
SUMMARY:Wonder Women Christmas Pajama Party
DESCRIPTION:You’re invited to our Wonder Women Christmas Pajama Party! Ladies\, kick off the holiday season with us! \nJoin us on Friday\, December 5th\, at 7:00 p.m. for an evening filled with fun\, laughter\, and dancing! Slip into your favorite jewel-tone pajamas and let’s celebrate together. \nDress for the jewel-tone theme! Come dressed in your favorite jewel-tone pajamas. Below\, you’ll find a color and style guide with examples and purchase options. The style guide is available for you to use as a reference or to shop from. Feel free to wear pajamas you already own\, or purchase from any store of your choice. \nReserve your spot today! Early bird tickets are just $50 until November 16—after that\, the price will increase to $55. Tickets include hors d’oeuvres\, a delicious buffet dinner\, and exciting giveaways you won’t want to miss! \n**Please note\, this event is for ages 13 and older. Childcare will not be provided.** \nLink to Purchase Tickets: https://the-spirit-church-67999.churchcenter.com/registrations/events/3224596 \nLink to Jewel Tone Style Guide: https://www.canva.com/design/DAGVo8D2El8/wSv4EKxPB7aQWlRIpMN8NA/view?utm_content=DAGVo8D2El8&utm_campaign=designshare&utm_medium=link&utm_source=editor
URL:https://thespiritchurch.org/eventcalendar/wonder-women-christmas-pajama-party/
ATTACH;FMTTYPE=image/png:https://thespiritchurch.org/wp-content/uploads/2025/09/WW-PJ-Party-PLATFORM-2.png
END:VEVENT
BEGIN:VEVENT
DTSTART;TZID=UTC:20251201T190000
DTEND;TZID=UTC:20251201T210000
DTSTAMP:20260423T222950
CREATED:20251201T215938Z
LAST-MODIFIED:20251201T215951Z
UID:10000016-1764615600-1764622800@thespiritchurch.org
SUMMARY:Men's Locker Room CANCELED
DESCRIPTION:Men’s Locker Room is CANCELED due to inclement. Stay safe!
URL:https://thespiritchurch.org/eventcalendar/mens-locker-room-8/
ATTACH;FMTTYPE=image/png:https://thespiritchurch.org/wp-content/uploads/2024/11/Mens-Locker-Room-2.png
END:VEVENT
BEGIN:VEVENT
DTSTART;VALUE=DATE:20251116
DTEND;VALUE=DATE:20251117
DTSTAMP:20260423T222950
CREATED:20251022T131322Z
LAST-MODIFIED:20251022T131322Z
UID:10000924-1763251200-1763337599@thespiritchurch.org
SUMMARY:Christmas Tree of Love (Applications Due Nov. 16)
DESCRIPTION:We are looking forward to serving 25 families this year through our Christmas Tree of Love Assistance Program. All applications are due by November 16. Please note that submitting an application does not guarantee acceptance. For more details\, see below: \nApplication Link: https://the-spirit-church-67999.churchcenter.com/registrations/events/3231137 \nThe Spirit Church receives a high volume of requests for assistance during the holiday season. While we are dedicated to supporting families in need\, we are unable to accommodate every request. This year\, we will select 25 families for our Holiday Assistance Program. Please note that submitting an application does not guarantee acceptance. The selection committee will carefully review all online applications submitted by the deadline. Any applications submitted after the deadline will not be considered. NO paper applications will be accepted. \nApplications must be submitted by Sunday\, November 16\, 2025. LATE APPLICATIONS WILL NOT BE ACCEPTED. \nHoliday Program Rules \n1. All families requesting assistance must complete the 2025 Application for Holiday Assistance and have all completed documentation submitted by November 16\, 2025. \n2. Picture ID for all adults in the household. \n3. The Older and Wiser Ministry\, may request documentation of families selected to receive assistance to provide guardianship or documentation that all children are residing under your care and proof of residence. This is not required for the first initial application. \n4. After all required documents have been submitted to the Office\, the application will be given to our Older and Wiser Committee. Those families chosen will be notified by phone or email indicating acceptance or our inability to assist this holiday season. \nThe following documentation is required for all accepted applicants \n1. Picture ID for adult applicant.
URL:https://thespiritchurch.org/eventcalendar/christmas-tree-of-love-applications-due-nov-16/
ATTACH;FMTTYPE=image/png:https://thespiritchurch.org/wp-content/uploads/2025/10/Christmas-Tree-of-Life-WEB.png
END:VEVENT
BEGIN:VEVENT
DTSTART;TZID=UTC:20251114T180000
DTEND;TZID=UTC:20251114T203000
DTSTAMP:20260423T222950
CREATED:20250923T175235Z
LAST-MODIFIED:20251105T162714Z
UID:10000914-1763143200-1763152200@thespiritchurch.org
SUMMARY:Next Up Friendsgiving
DESCRIPTION:Calling all young adults ages 18–30! Next Up Young Adult Ministry is hosting a Friendsgiving on Friday\, November 14 at 6 p.m. Dinner will be provided\, along with games and plenty of fun—just bring a store-bought dessert and don’t miss out! \nLet us know your coming by RSVP by using this link: https://the-spirit-church-67999.churchcenter.com/registrations/events/3178386 \n  \n 
URL:https://thespiritchurch.org/eventcalendar/next-up-friendsgiving/
ATTACH;FMTTYPE=image/png:https://thespiritchurch.org/wp-content/uploads/2025/09/Next-Up-Rolling-Slides-9.png
END:VEVENT
BEGIN:VEVENT
DTSTART;TZID=UTC:20251108T090000
DTEND;TZID=UTC:20251108T123000
DTSTAMP:20260423T222950
CREATED:20251021T192815Z
LAST-MODIFIED:20251021T192815Z
UID:10000922-1762592400-1762605000@thespiritchurch.org
SUMMARY:Surviving The Holidays: Session 1
DESCRIPTION:“Surviving the Holidays” sessions offer compassionate support for individuals coping with grief due to the loss of loved ones\, divorce\, or separation. These sessions provide guidance and foster a sense of community to help navigate the emotional challenges of the holiday season. \nParticipants can choose between two sessions: November 8th or December 6th. We will have two separate groups: GriefShare and DivorceCare.  \nLink to Register: https://the-spirit-church-67999.churchcenter.com/registrations/events/3231305
URL:https://thespiritchurch.org/eventcalendar/surviving-the-holidays-session-1-2/
ATTACH;FMTTYPE=image/png:https://thespiritchurch.org/wp-content/uploads/2025/10/Surviving-The-Holidays-2024-1.png
END:VEVENT
BEGIN:VEVENT
DTSTART;TZID=UTC:20251108T080000
DTEND;TZID=UTC:20251108T100000
DTSTAMP:20260423T222950
CREATED:20251104T202634Z
LAST-MODIFIED:20251104T202634Z
UID:10000926-1762588800-1762596000@thespiritchurch.org
SUMMARY:RiSE Outreach
DESCRIPTION:As we enter the Thanksgiving season\, our RiSE students will put gratitude into action through a special service project! Students will serve our community by helping with outdoor cleanup and indoor organization at the Missouri Baptist Children’s Home. \n📍 Address: 11300 St. Charles Rock Rd\, Bridgeton\, MO 63044 \nPlease ensure students arrive by 7:50 a.m. for check-in and dress in layers for outdoor work.
URL:https://thespiritchurch.org/eventcalendar/rise-outreach/
ATTACH;FMTTYPE=image/png:https://thespiritchurch.org/wp-content/uploads/2025/11/RiSE-Rolling-Slides-5.png
END:VEVENT
BEGIN:VEVENT
DTSTART;TZID=UTC:20251103T190000
DTEND;TZID=UTC:20251103T210000
DTSTAMP:20260423T222950
CREATED:20241103T025113Z
LAST-MODIFIED:20241103T041902Z
UID:10000015-1762196400-1762203600@thespiritchurch.org
SUMMARY:Men's Locker Room
DESCRIPTION:Men’s Locker Room is our monthly Bible study where men gather for fellowship\, growth\, and a powerful message from Pastor Aeneas.
URL:https://thespiritchurch.org/eventcalendar/mens-locker-room/2025-11-03/
ATTACH;FMTTYPE=image/jpeg:https://thespiritchurch.org/wp-content/uploads/2024/11/image-2.jpg
END:VEVENT
BEGIN:VEVENT
DTSTART;VALUE=DATE:20251102
DTEND;VALUE=DATE:20251103
DTSTAMP:20260423T222950
CREATED:20250812T182930Z
LAST-MODIFIED:20250812T183145Z
UID:10000906-1762041600-1762127999@thespiritchurch.org
SUMMARY:Daylight Savings
DESCRIPTION:Daylight Saving Time ends this Sunday! Don’t forget to set your clocks back one hour before bed on Saturday night and enjoy that extra hour of sleep. Let’s fall back together!
URL:https://thespiritchurch.org/eventcalendar/daylight-savings/
ATTACH;FMTTYPE=image/png:https://thespiritchurch.org/wp-content/uploads/2025/08/Copy-of-Fall-Back-Graphic-2.png
END:VEVENT
BEGIN:VEVENT
DTSTART;TZID=UTC:20251101T150000
DTEND;TZID=UTC:20251101T180000
DTSTAMP:20260423T222950
CREATED:20250812T174737Z
LAST-MODIFIED:20251019T132935Z
UID:10000904-1762009200-1762020000@thespiritchurch.org
SUMMARY:Fall Festival (Rescheduled from October 18)
DESCRIPTION:UPDATE: Due to severe weather risk\, Fall Festival has been POSTPONED to Saturday\, November 1. \nWise Kids invites you to our annual Fall Festival at The Spirit Church! Join us on Saturday\, November 1\, from 3 to 6 p.m. Bring the whole family for an afternoon of carnival rides\, candy\, games\, and so much more. Kids are encouraged to dress up in their favorite fun and festive costumes! Grab your friends\, bundle up in your fall gear\, and join us for a day filled with fun\, laughter\, and sweet memories! \nWe are also looking for dedicated volunteers to make this a successful event. Click here to sign up: https://the-spirit-church-67999.churchcenter.com/registrations/events/3183872 \nLearn more: https://thespiritchurch.org/fall-festival-2025/
URL:https://thespiritchurch.org/eventcalendar/fall-festival/
ATTACH;FMTTYPE=image/png:https://thespiritchurch.org/wp-content/uploads/2025/08/Fall-Festival-WISE-KIDS-LOGO-8.png
END:VEVENT
BEGIN:VEVENT
DTSTART;TZID=UTC:20251101T100000
DTEND;TZID=UTC:20251101T113000
DTSTAMP:20260423T222950
CREATED:20251015T124304Z
LAST-MODIFIED:20251023T191132Z
UID:10000920-1761991200-1761996600@thespiritchurch.org
SUMMARY:Calling All Veterans: Benefits Session (POSTPONED UNTIL FURTHER NOTICE)
DESCRIPTION:his event has been postponed until further notice. We look forward to offering an information session designed to help Veterans learn about their benefits and eligibility\, hosted by a representative from the Department of Veterans Affairs (VA). We are working to solidify a new date.
URL:https://thespiritchurch.org/eventcalendar/calling-all-veterans-benefits-session/
ATTACH;FMTTYPE=image/png:https://thespiritchurch.org/wp-content/uploads/2025/10/Calling-all-Veterans-Benefit-Session-PLATFORM-1.png
END:VEVENT
BEGIN:VEVENT
DTSTART;TZID=UTC:20251031T180000
DTEND;TZID=UTC:20251031T200000
DTSTAMP:20260423T222950
CREATED:20251002T190832Z
LAST-MODIFIED:20251014T172907Z
UID:10000919-1761933600-1761940800@thespiritchurch.org
SUMMARY:RiSE Outing At Slick City (POSTPONED)
DESCRIPTION:The RiSE Slick City Outing has been postponed and will be rescheduled for 2026.
URL:https://thespiritchurch.org/eventcalendar/rise-outing-at-slick-cit/
ATTACH;FMTTYPE=image/png:https://thespiritchurch.org/wp-content/uploads/2025/10/RiSE-Slick-City-POSTPONED.png
END:VEVENT
BEGIN:VEVENT
DTSTART;TZID=UTC:20251026T153000
DTEND;TZID=UTC:20251026T173000
DTSTAMP:20260423T222950
CREATED:20251016T170902Z
LAST-MODIFIED:20251016T170902Z
UID:10000921-1761492600-1761499800@thespiritchurch.org
SUMMARY:RiSE Middle School & High School Service (Parent & Student Workshops)
DESCRIPTION:This service is for middle and high school students. We’re continuing with Part 2 of the Parent and Student Workshop on Healthy Communication.
URL:https://thespiritchurch.org/eventcalendar/rise-middle-school-high-school-service-parent-student-workshops/
ATTACH;FMTTYPE=image/png:https://thespiritchurch.org/wp-content/uploads/2025/03/RiSE-Rolling-Slides.png
END:VEVENT
BEGIN:VEVENT
DTSTART;TZID=UTC:20251024T190000
DTEND;TZID=UTC:20251024T213000
DTSTAMP:20260423T222950
CREATED:20250812T181235Z
LAST-MODIFIED:20250917T203325Z
UID:10000905-1761332400-1761341400@thespiritchurch.org
SUMMARY:Wonder Women The Experience
DESCRIPTION:Ladies\, get ready for a night of POWER! The Wonder Women Experience is happening on Friday\, October 24\, featuring special guest Tommi A. Vincent. Read her bio below and join us for an inspiring word\, free food\, and uplifting fellowship. \n  \nChef Tommi Vincent Bio \nTommi A. Vincent is a passionate storyteller\, culinary creative\, and advocate for authentic living. She believes every woman reaches a pivotal moment—the realization that it’s time to reclaim the pen and write her own narrative. \nFor Tommi\, that moment arrived after years of championing others while neglecting her own light. When burnout and depression set in\, she found her way back to herself in the warmth of the kitchen\, guided by her Nana Edie’s cherished recipes. Through therapy\, faith\, and the transformative power of cooking\, Tommi rebuilt her life from the inside out. \nIn the kitchen\, she discovered that recipes—like personal growth—require intentional timing\, patience\, and the right ingredients to create something nourishing and beautiful. Today\, Tommi inspires others to slow down\, connect with their stories\, and step fully into the life they were created to live.
URL:https://thespiritchurch.org/eventcalendar/wonder-women-experience/
ATTACH;FMTTYPE=image/png:https://thespiritchurch.org/wp-content/uploads/2025/08/Wonder-Women-The-Experience-2025-1.png
END:VEVENT
BEGIN:VEVENT
DTSTART;TZID=UTC:20251012T153000
DTEND;TZID=UTC:20251012T173000
DTSTAMP:20260423T222950
CREATED:20250812T173746Z
LAST-MODIFIED:20250812T173746Z
UID:10000903-1760283000-1760290200@thespiritchurch.org
SUMMARY:RiSE Middle School & High School Service
DESCRIPTION:This service is for middle and high school students and will meet only on the second Sunday in October.
URL:https://thespiritchurch.org/eventcalendar/rise-middle-school-high-school-service-4/
ATTACH;FMTTYPE=image/png:https://thespiritchurch.org/wp-content/uploads/2025/03/RiSE-Rolling-Slides.png
END:VEVENT
BEGIN:VEVENT
DTSTART;TZID=UTC:20251012T090000
DTEND;TZID=UTC:20251012T110000
DTSTAMP:20260423T222950
CREATED:20250923T184920Z
LAST-MODIFIED:20250923T185007Z
UID:10000915-1760259600-1760266800@thespiritchurch.org
SUMMARY:Baptism Sunday
DESCRIPTION:Ready to take the next step in your faith journey? Water Baptism is a public declaration of the transformation happening inside you.\n\nBaptism Sign Up Link: https://the-spirit-church-67999.churchcenter.com/registrations/events/2387597
URL:https://thespiritchurch.org/eventcalendar/baptism-sunday-2/
ATTACH;FMTTYPE=image/jpeg:https://thespiritchurch.org/wp-content/uploads/2024/11/image-2-1.jpg
END:VEVENT
END:VCALENDAR