BEGIN:VCALENDAR
VERSION:2.0
PRODID:-//The Spirit Church - ECPv6.15.20//NONSGML v1.0//EN
CALSCALE:GREGORIAN
METHOD:PUBLISH
X-ORIGINAL-URL:https://thespiritchurch.org
X-WR-CALDESC:Events for The Spirit Church
REFRESH-INTERVAL;VALUE=DURATION:PT1H
X-Robots-Tag:noindex
X-PUBLISHED-TTL:PT1H
BEGIN:VTIMEZONE
TZID:UTC
BEGIN:STANDARD
TZOFFSETFROM:+0000
TZOFFSETTO:+0000
TZNAME:UTC
DTSTART:20250101T000000
END:STANDARD
END:VTIMEZONE
BEGIN:VEVENT
DTSTART;TZID=UTC:20260504T190000
DTEND;TZID=UTC:20260504T210000
DTSTAMP:20260423T173156
CREATED:20241103T025113Z
LAST-MODIFIED:20241103T041902Z
UID:10000021-1777921200-1777928400@thespiritchurch.org
SUMMARY:Men's Locker Room
DESCRIPTION:Men’s Locker Room is our monthly Bible study where men gather for fellowship\, growth\, and a powerful message from Pastor Aeneas.
URL:https://thespiritchurch.org/eventcalendar/mens-locker-room/2026-05-04/
ATTACH;FMTTYPE=image/jpeg:https://thespiritchurch.org/wp-content/uploads/2024/11/image-2.jpg
END:VEVENT
BEGIN:VEVENT
DTSTART;TZID=UTC:20260509T110000
DTEND;TZID=UTC:20260509T133000
DTSTAMP:20260423T173156
CREATED:20251229T195128Z
LAST-MODIFIED:20260316T152108Z
UID:10000952-1778324400-1778333400@thespiritchurch.org
SUMMARY:Wise Steps Saturday (Membership Class)
DESCRIPTION:Interested in becoming a member of The Spirit Church?\nJoin us every second Saturday of the month at 11 a.m. for a streamlined\, fast-track experience where you can complete all four Wise Step classes in just one day. In these classes\, you’ll learn who we are and how we partner together. \nDon’t let a busy schedule hold you back—take the next step with us! Let us know you’re coming by clicking here to register. 
URL:https://thespiritchurch.org/eventcalendar/wise-steps-saturday-4/2026-05-09/
ATTACH;FMTTYPE=image/png:https://thespiritchurch.org/wp-content/uploads/2025/03/Copy-of-Wise-Steps-Signs-1.png
END:VEVENT
BEGIN:VEVENT
DTSTART;TZID=UTC:20260517T090000
DTEND;TZID=UTC:20260517T110000
DTSTAMP:20260423T173156
CREATED:20260112T220004Z
LAST-MODIFIED:20260323T151348Z
UID:10000971-1779008400-1779015600@thespiritchurch.org
SUMMARY:Baptism Sunday
DESCRIPTION:Ready to take the next step in your faith journey? Water Baptism is a public declaration of the transformation happening inside you.\n\nBaptism Sign Up Link: https://the-spirit-church-67999.churchcenter.com/registrations/events/3544621
URL:https://thespiritchurch.org/eventcalendar/baptism-sunday-4/
ATTACH;FMTTYPE=image/jpeg:https://thespiritchurch.org/wp-content/uploads/2024/11/image-2-1.jpg
END:VEVENT
BEGIN:VEVENT
DTSTART;TZID=UTC:20260522T180000
DTEND;TZID=UTC:20260522T210000
DTSTAMP:20260423T173156
CREATED:20260410T191654Z
LAST-MODIFIED:20260413T190216Z
UID:10000997-1779472800-1779483600@thespiritchurch.org
SUMMARY:Next Up Block Party
DESCRIPTION:Join us for our Next Up Young Adults Block Party on Friday\, May 22\, at 6 PM! This free event is the perfect opportunity for young adults to connect\, build community\, and have fun. Enjoy catered BBQ\, games\, dancing\, and much more. \nBring your friends and come ready for a great time—we’d love to see you there! Be sure to register in advance to let us know you’re coming. \nRegister Here: https://the-spirit-church-67999.churchcenter.com/registrations/events/3581714
URL:https://thespiritchurch.org/eventcalendar/next-up-block-party/
ATTACH;FMTTYPE=image/png:https://thespiritchurch.org/wp-content/uploads/2026/04/Next-Up-Young-Adults-Block-Party-2026-ONLINE-1.png
END:VEVENT
BEGIN:VEVENT
DTSTART;TZID=UTC:20260524T153000
DTEND;TZID=UTC:20260524T173000
DTSTAMP:20260423T173156
CREATED:20260422T135034Z
LAST-MODIFIED:20260422T135217Z
UID:10001002-1779636600-1779643800@thespiritchurch.org
SUMMARY:RiSE Middle & High School Service
DESCRIPTION:This service is for our middle and high school students. We will only meet on the fourth Sunday in May.
URL:https://thespiritchurch.org/eventcalendar/rise-middle-high-school-service/
ATTACH;FMTTYPE=image/png:https://thespiritchurch.org/wp-content/uploads/2026/01/Updated-RiSE-ROLLING-SLIDE-5.png
END:VEVENT
BEGIN:VEVENT
DTSTART;TZID=UTC:20260529T190000
DTEND;TZID=UTC:20260529T203000
DTSTAMP:20260423T173156
CREATED:20260407T192631Z
LAST-MODIFIED:20260409T194233Z
UID:10000996-1780081200-1780086600@thespiritchurch.org
SUMMARY:Wonder Women Café Koinonia
DESCRIPTION:Join us for our Wonder Women Café Koinonia of the year on Friday\, May 29\, at 7 p.m. This warm and intimate gathering is designed for women to come together in a relaxed and welcoming atmosphere. \nThe word koinonia means intimate fellowship and communion\, and this gathering reflects the heart of Wonder Women—creating authentic spaces where women can build genuine community\, grow in their faith\, and be encouraged in the Word. \nPlease note: childcare will not be provided for this event.
URL:https://thespiritchurch.org/eventcalendar/wonder-women-cafe-koinonia-2/
ATTACH;FMTTYPE=image/png:https://thespiritchurch.org/wp-content/uploads/2026/01/Wonder-Women-Cafe-K-WEB-FINAL-1.png
END:VEVENT
END:VCALENDAR