BEGIN:VCALENDAR
VERSION:2.0
PRODID:-//The Spirit Church - ECPv6.15.20//NONSGML v1.0//EN
CALSCALE:GREGORIAN
METHOD:PUBLISH
X-WR-CALNAME:The Spirit Church
X-ORIGINAL-URL:https://thespiritchurch.org
X-WR-CALDESC:Events for The Spirit Church
REFRESH-INTERVAL;VALUE=DURATION:PT1H
X-Robots-Tag:noindex
X-PUBLISHED-TTL:PT1H
BEGIN:VTIMEZONE
TZID:UTC
BEGIN:STANDARD
TZOFFSETFROM:+0000
TZOFFSETTO:+0000
TZNAME:UTC
DTSTART:20250101T000000
END:STANDARD
END:VTIMEZONE
BEGIN:VEVENT
DTSTART;VALUE=DATE:20260628
DTEND;VALUE=DATE:20260629
DTSTAMP:20260423T223909
CREATED:20260422T140400Z
LAST-MODIFIED:20260422T140400Z
UID:10001003-1782604800-1782691199@thespiritchurch.org
SUMMARY:Faith & Fitness Sunday
DESCRIPTION:We are excited to host our very first Faith & Fitness Sunday on June 28! This won’t be your typical Sunday. We’ll have a fitness-inspired worship experience\, and after service\, enjoy a variety of fitness activities\, from line dancing to cycling classes. There will be something for everyone. \nWe encourage everyone to wear workout clothes if you plan to participate. More details coming soon.
URL:https://thespiritchurch.org/eventcalendar/faith-fitness-sunday/
ATTACH;FMTTYPE=image/png:https://thespiritchurch.org/wp-content/uploads/2025/08/Upcoming-Event.png
END:VEVENT
BEGIN:VEVENT
DTSTART;TZID=UTC:20260628T153000
DTEND;TZID=UTC:20260628T173000
DTSTAMP:20260423T223909
CREATED:20260413T192012Z
LAST-MODIFIED:20260413T192021Z
UID:10000999-1782660600-1782667800@thespiritchurch.org
SUMMARY:RiSE Middle School & High School Service
DESCRIPTION:This service is for our middle and high school students. We will meet only on the 4th Sunday in June.
URL:https://thespiritchurch.org/eventcalendar/rise-middle-school-high-school-service-10/
ATTACH;FMTTYPE=image/png:https://thespiritchurch.org/wp-content/uploads/2026/01/Updated-RiSE-ROLLING-SLIDE-5.png
END:VEVENT
BEGIN:VEVENT
DTSTART;TZID=UTC:20260706T190000
DTEND;TZID=UTC:20260706T210000
DTSTAMP:20260423T223909
CREATED:20251217T200145Z
LAST-MODIFIED:20251217T200309Z
UID:10000023-1783364400-1783371600@thespiritchurch.org
SUMMARY:Men's Locker Room CANCELED
DESCRIPTION:Men’s Locker Room\, our monthly men’s bible study\, is canceled for June and July.
URL:https://thespiritchurch.org/eventcalendar/mens-locker-room-12/
ATTACH;FMTTYPE=image/png:https://thespiritchurch.org/wp-content/uploads/2024/11/Mens-Locker-Room-2.png
END:VEVENT
BEGIN:VEVENT
DTSTART;TZID=UTC:20260711T110000
DTEND;TZID=UTC:20260711T133000
DTSTAMP:20260423T223909
CREATED:20251229T195128Z
LAST-MODIFIED:20260316T152108Z
UID:10000954-1783767600-1783776600@thespiritchurch.org
SUMMARY:Wise Steps Saturday (Membership Class)
DESCRIPTION:Interested in becoming a member of The Spirit Church?\nJoin us every second Saturday of the month at 11 a.m. for a streamlined\, fast-track experience where you can complete all four Wise Step classes in just one day. In these classes\, you’ll learn who we are and how we partner together. \nDon’t let a busy schedule hold you back—take the next step with us! Let us know you’re coming by clicking here to register. 
URL:https://thespiritchurch.org/eventcalendar/wise-steps-saturday-4/2026-07-11/
ATTACH;FMTTYPE=image/png:https://thespiritchurch.org/wp-content/uploads/2025/03/Copy-of-Wise-Steps-Signs-1.png
END:VEVENT
BEGIN:VEVENT
DTSTART;VALUE=DATE:20260714
DTEND;VALUE=DATE:20260717
DTSTAMP:20260423T223909
CREATED:20260422T142322Z
LAST-MODIFIED:20260422T142705Z
UID:10001004-1783987200-1784246399@thespiritchurch.org
SUMMARY:Wise Kids Vacation Bible School
DESCRIPTION:Wise Kids is excited to host a FREE Vacation Bible School from July 14–16\, taking place each evening from 6:00 PM to 8:30 PM. Save the date. Registration will be opening soon\, and we will also be recruiting volunteers to help make this event a success. \nWe welcome children ages 3 to 11 to join us for three days of engaging activities\, games\, and crafts. Vacation Bible School is open to all children\, whether they attend The Spirit Church regularly or not.
URL:https://thespiritchurch.org/eventcalendar/wise-kids-vacation-bible-school/
ATTACH;FMTTYPE=image/png:https://thespiritchurch.org/wp-content/uploads/2025/08/Upcoming-Event.png
END:VEVENT
BEGIN:VEVENT
DTSTART;TZID=UTC:20260724T180000
DTEND;TZID=UTC:20260724T200000
DTSTAMP:20260423T223909
CREATED:20251229T193602Z
LAST-MODIFIED:20260413T190933Z
UID:10000945-1784916000-1784923200@thespiritchurch.org
SUMMARY:Next Up Service
DESCRIPTION:Calling all young adults! Don’t miss the opportunity to connect with like-minded individuals. Join us for an on-time word and hang out afterward. Note: Post-service hangout locations may vary.
URL:https://thespiritchurch.org/eventcalendar/next-up-service-5/2026-07-24/
ATTACH;FMTTYPE=image/png:https://thespiritchurch.org/wp-content/uploads/2025/12/Next-Up-UPDATED-ROLLING-SLIDE-4.png
END:VEVENT
BEGIN:VEVENT
DTSTART;VALUE=DATE:20260725
DTEND;VALUE=DATE:20260726
DTSTAMP:20260423T223909
CREATED:20260422T143134Z
LAST-MODIFIED:20260422T143530Z
UID:10001005-1784937600-1785023999@thespiritchurch.org
SUMMARY:Serve Day
DESCRIPTION:Save the date for Serve Day 2026 on Saturday\, July 25. Join us as we go out into the community to be the hands and feet of Jesus. This is a powerful opportunity for our church to come together and make a meaningful impact.
URL:https://thespiritchurch.org/eventcalendar/serve-day-2/
ATTACH;FMTTYPE=image/png:https://thespiritchurch.org/wp-content/uploads/2025/08/Upcoming-Event.png
END:VEVENT
BEGIN:VEVENT
DTSTART;TZID=UTC:20260726T090000
DTEND;TZID=UTC:20260726T110000
DTSTAMP:20260423T223909
CREATED:20260323T151522Z
LAST-MODIFIED:20260323T151522Z
UID:10000994-1785056400-1785063600@thespiritchurch.org
SUMMARY:Baptism Sunday
DESCRIPTION:Ready to take the next step in your faith journey? Water Baptism is a public declaration of the transformation happening inside you.\n\nBaptism Sign Up Link: https://the-spirit-church-67999.churchcenter.com/registrations/events/3544621
URL:https://thespiritchurch.org/eventcalendar/baptism-sunday-5/
ATTACH;FMTTYPE=image/jpeg:https://thespiritchurch.org/wp-content/uploads/2024/11/image-2-1.jpg
END:VEVENT
BEGIN:VEVENT
DTSTART;TZID=UTC:20260803T190000
DTEND;TZID=UTC:20260803T210000
DTSTAMP:20260423T223910
CREATED:20241103T025113Z
LAST-MODIFIED:20241103T041902Z
UID:10000024-1785783600-1785790800@thespiritchurch.org
SUMMARY:Men's Locker Room
DESCRIPTION:Men’s Locker Room is our monthly Bible study where men gather for fellowship\, growth\, and a powerful message from Pastor Aeneas.
URL:https://thespiritchurch.org/eventcalendar/mens-locker-room/2026-08-03/
ATTACH;FMTTYPE=image/jpeg:https://thespiritchurch.org/wp-content/uploads/2024/11/image-2.jpg
END:VEVENT
BEGIN:VEVENT
DTSTART;TZID=UTC:20260808T110000
DTEND;TZID=UTC:20260808T133000
DTSTAMP:20260423T223910
CREATED:20251229T195128Z
LAST-MODIFIED:20260316T152108Z
UID:10000955-1786186800-1786195800@thespiritchurch.org
SUMMARY:Wise Steps Saturday (Membership Class)
DESCRIPTION:Interested in becoming a member of The Spirit Church?\nJoin us every second Saturday of the month at 11 a.m. for a streamlined\, fast-track experience where you can complete all four Wise Step classes in just one day. In these classes\, you’ll learn who we are and how we partner together. \nDon’t let a busy schedule hold you back—take the next step with us! Let us know you’re coming by clicking here to register. 
URL:https://thespiritchurch.org/eventcalendar/wise-steps-saturday-4/2026-08-08/
ATTACH;FMTTYPE=image/png:https://thespiritchurch.org/wp-content/uploads/2025/03/Copy-of-Wise-Steps-Signs-1.png
END:VEVENT
BEGIN:VEVENT
DTSTART;TZID=UTC:20260907T190000
DTEND;TZID=UTC:20260907T210000
DTSTAMP:20260423T223910
CREATED:20251217T195905Z
LAST-MODIFIED:20251217T195912Z
UID:10000025-1788807600-1788814800@thespiritchurch.org
SUMMARY:Men's Locker Room
DESCRIPTION:Men’s Locker Room is our monthly Bible study where men gather for fellowship\, growth\, and a powerful message from Pastor Aeneas. This month it will take place on the second Monday in September.
URL:https://thespiritchurch.org/eventcalendar/mens-locker-room-10/
ATTACH;FMTTYPE=image/jpeg:https://thespiritchurch.org/wp-content/uploads/2024/11/image-2.jpg
END:VEVENT
BEGIN:VEVENT
DTSTART;TZID=UTC:20260912T110000
DTEND;TZID=UTC:20260912T133000
DTSTAMP:20260423T223910
CREATED:20251229T195128Z
LAST-MODIFIED:20260316T152108Z
UID:10000956-1789210800-1789219800@thespiritchurch.org
SUMMARY:Wise Steps Saturday (Membership Class)
DESCRIPTION:Interested in becoming a member of The Spirit Church?\nJoin us every second Saturday of the month at 11 a.m. for a streamlined\, fast-track experience where you can complete all four Wise Step classes in just one day. In these classes\, you’ll learn who we are and how we partner together. \nDon’t let a busy schedule hold you back—take the next step with us! Let us know you’re coming by clicking here to register. 
URL:https://thespiritchurch.org/eventcalendar/wise-steps-saturday-4/2026-09-12/
ATTACH;FMTTYPE=image/png:https://thespiritchurch.org/wp-content/uploads/2025/03/Copy-of-Wise-Steps-Signs-1.png
END:VEVENT
BEGIN:VEVENT
DTSTART;TZID=UTC:20261005T190000
DTEND;TZID=UTC:20261005T210000
DTSTAMP:20260423T223910
CREATED:20241103T025113Z
LAST-MODIFIED:20241103T041902Z
UID:10000026-1791226800-1791234000@thespiritchurch.org
SUMMARY:Men's Locker Room
DESCRIPTION:Men’s Locker Room is our monthly Bible study where men gather for fellowship\, growth\, and a powerful message from Pastor Aeneas.
URL:https://thespiritchurch.org/eventcalendar/mens-locker-room/2026-10-05/
ATTACH;FMTTYPE=image/jpeg:https://thespiritchurch.org/wp-content/uploads/2024/11/image-2.jpg
END:VEVENT
BEGIN:VEVENT
DTSTART;TZID=UTC:20261010T110000
DTEND;TZID=UTC:20261010T133000
DTSTAMP:20260423T223910
CREATED:20251229T195128Z
LAST-MODIFIED:20260316T152108Z
UID:10000957-1791630000-1791639000@thespiritchurch.org
SUMMARY:Wise Steps Saturday (Membership Class)
DESCRIPTION:Interested in becoming a member of The Spirit Church?\nJoin us every second Saturday of the month at 11 a.m. for a streamlined\, fast-track experience where you can complete all four Wise Step classes in just one day. In these classes\, you’ll learn who we are and how we partner together. \nDon’t let a busy schedule hold you back—take the next step with us! Let us know you’re coming by clicking here to register. 
URL:https://thespiritchurch.org/eventcalendar/wise-steps-saturday-4/2026-10-10/
ATTACH;FMTTYPE=image/png:https://thespiritchurch.org/wp-content/uploads/2025/03/Copy-of-Wise-Steps-Signs-1.png
END:VEVENT
BEGIN:VEVENT
DTSTART;TZID=UTC:20261102T190000
DTEND;TZID=UTC:20261102T210000
DTSTAMP:20260423T223910
CREATED:20241103T025113Z
LAST-MODIFIED:20241103T041902Z
UID:10000027-1793646000-1793653200@thespiritchurch.org
SUMMARY:Men's Locker Room
DESCRIPTION:Men’s Locker Room is our monthly Bible study where men gather for fellowship\, growth\, and a powerful message from Pastor Aeneas.
URL:https://thespiritchurch.org/eventcalendar/mens-locker-room/2026-11-02/
ATTACH;FMTTYPE=image/jpeg:https://thespiritchurch.org/wp-content/uploads/2024/11/image-2.jpg
END:VEVENT
BEGIN:VEVENT
DTSTART;TZID=UTC:20261114T110000
DTEND;TZID=UTC:20261114T133000
DTSTAMP:20260423T223910
CREATED:20251229T195128Z
LAST-MODIFIED:20260316T152108Z
UID:10000958-1794654000-1794663000@thespiritchurch.org
SUMMARY:Wise Steps Saturday (Membership Class)
DESCRIPTION:Interested in becoming a member of The Spirit Church?\nJoin us every second Saturday of the month at 11 a.m. for a streamlined\, fast-track experience where you can complete all four Wise Step classes in just one day. In these classes\, you’ll learn who we are and how we partner together. \nDon’t let a busy schedule hold you back—take the next step with us! Let us know you’re coming by clicking here to register. 
URL:https://thespiritchurch.org/eventcalendar/wise-steps-saturday-4/2026-11-14/
ATTACH;FMTTYPE=image/png:https://thespiritchurch.org/wp-content/uploads/2025/03/Copy-of-Wise-Steps-Signs-1.png
END:VEVENT
BEGIN:VEVENT
DTSTART;TZID=UTC:20261115T090000
DTEND;TZID=UTC:20261115T110000
DTSTAMP:20260423T223910
CREATED:20260323T151640Z
LAST-MODIFIED:20260323T151713Z
UID:10000995-1794733200-1794740400@thespiritchurch.org
SUMMARY:Baptism Sunday
DESCRIPTION:Ready to take the next step in your faith journey? Water Baptism is a public declaration of the transformation happening inside you.\n\nBaptism Sign Up Link: https://the-spirit-church-67999.churchcenter.com/registrations/events/3544621
URL:https://thespiritchurch.org/eventcalendar/baptism-november/
ATTACH;FMTTYPE=image/jpeg:https://thespiritchurch.org/wp-content/uploads/2024/11/image-2-1.jpg
END:VEVENT
BEGIN:VEVENT
DTSTART;TZID=UTC:20261207T190000
DTEND;TZID=UTC:20261207T210000
DTSTAMP:20260423T223910
CREATED:20241103T025113Z
LAST-MODIFIED:20241103T041902Z
UID:10000028-1796670000-1796677200@thespiritchurch.org
SUMMARY:Men's Locker Room
DESCRIPTION:Men’s Locker Room is our monthly Bible study where men gather for fellowship\, growth\, and a powerful message from Pastor Aeneas.
URL:https://thespiritchurch.org/eventcalendar/mens-locker-room/2026-12-07/
ATTACH;FMTTYPE=image/jpeg:https://thespiritchurch.org/wp-content/uploads/2024/11/image-2.jpg
END:VEVENT
BEGIN:VEVENT
DTSTART;TZID=UTC:20261212T110000
DTEND;TZID=UTC:20261212T133000
DTSTAMP:20260423T223910
CREATED:20251229T195128Z
LAST-MODIFIED:20260316T152108Z
UID:10000959-1797073200-1797082200@thespiritchurch.org
SUMMARY:Wise Steps Saturday (Membership Class)
DESCRIPTION:Interested in becoming a member of The Spirit Church?\nJoin us every second Saturday of the month at 11 a.m. for a streamlined\, fast-track experience where you can complete all four Wise Step classes in just one day. In these classes\, you’ll learn who we are and how we partner together. \nDon’t let a busy schedule hold you back—take the next step with us! Let us know you’re coming by clicking here to register. 
URL:https://thespiritchurch.org/eventcalendar/wise-steps-saturday-4/2026-12-12/
ATTACH;FMTTYPE=image/png:https://thespiritchurch.org/wp-content/uploads/2025/03/Copy-of-Wise-Steps-Signs-1.png
END:VEVENT
BEGIN:VEVENT
DTSTART;TZID=UTC:20270104T190000
DTEND;TZID=UTC:20270104T210000
DTSTAMP:20260423T223910
CREATED:20241103T025113Z
LAST-MODIFIED:20241103T041902Z
UID:10000029-1799089200-1799096400@thespiritchurch.org
SUMMARY:Men's Locker Room
DESCRIPTION:Men’s Locker Room is our monthly Bible study where men gather for fellowship\, growth\, and a powerful message from Pastor Aeneas.
URL:https://thespiritchurch.org/eventcalendar/mens-locker-room/2027-01-04/
ATTACH;FMTTYPE=image/jpeg:https://thespiritchurch.org/wp-content/uploads/2024/11/image-2.jpg
END:VEVENT
BEGIN:VEVENT
DTSTART;TZID=UTC:20270109T110000
DTEND;TZID=UTC:20270109T133000
DTSTAMP:20260423T223910
CREATED:20251229T195128Z
LAST-MODIFIED:20260316T152108Z
UID:10000960-1799492400-1799501400@thespiritchurch.org
SUMMARY:Wise Steps Saturday (Membership Class)
DESCRIPTION:Interested in becoming a member of The Spirit Church?\nJoin us every second Saturday of the month at 11 a.m. for a streamlined\, fast-track experience where you can complete all four Wise Step classes in just one day. In these classes\, you’ll learn who we are and how we partner together. \nDon’t let a busy schedule hold you back—take the next step with us! Let us know you’re coming by clicking here to register. 
URL:https://thespiritchurch.org/eventcalendar/wise-steps-saturday-4/2027-01-09/
ATTACH;FMTTYPE=image/png:https://thespiritchurch.org/wp-content/uploads/2025/03/Copy-of-Wise-Steps-Signs-1.png
END:VEVENT
BEGIN:VEVENT
DTSTART;TZID=UTC:20270201T190000
DTEND;TZID=UTC:20270201T210000
DTSTAMP:20260423T223910
CREATED:20241103T025113Z
LAST-MODIFIED:20241103T041902Z
UID:10000030-1801508400-1801515600@thespiritchurch.org
SUMMARY:Men's Locker Room
DESCRIPTION:Men’s Locker Room is our monthly Bible study where men gather for fellowship\, growth\, and a powerful message from Pastor Aeneas.
URL:https://thespiritchurch.org/eventcalendar/mens-locker-room/2027-02-01/
ATTACH;FMTTYPE=image/jpeg:https://thespiritchurch.org/wp-content/uploads/2024/11/image-2.jpg
END:VEVENT
BEGIN:VEVENT
DTSTART;TZID=UTC:20270301T190000
DTEND;TZID=UTC:20270301T210000
DTSTAMP:20260423T223910
CREATED:20241103T025113Z
LAST-MODIFIED:20241103T041902Z
UID:10000031-1803927600-1803934800@thespiritchurch.org
SUMMARY:Men's Locker Room
DESCRIPTION:Men’s Locker Room is our monthly Bible study where men gather for fellowship\, growth\, and a powerful message from Pastor Aeneas.
URL:https://thespiritchurch.org/eventcalendar/mens-locker-room/2027-03-01/
ATTACH;FMTTYPE=image/jpeg:https://thespiritchurch.org/wp-content/uploads/2024/11/image-2.jpg
END:VEVENT
BEGIN:VEVENT
DTSTART;TZID=UTC:20270405T190000
DTEND;TZID=UTC:20270405T210000
DTSTAMP:20260423T223910
CREATED:20241103T025113Z
LAST-MODIFIED:20241103T041902Z
UID:10000032-1806951600-1806958800@thespiritchurch.org
SUMMARY:Men's Locker Room
DESCRIPTION:Men’s Locker Room is our monthly Bible study where men gather for fellowship\, growth\, and a powerful message from Pastor Aeneas.
URL:https://thespiritchurch.org/eventcalendar/mens-locker-room/2027-04-05/
ATTACH;FMTTYPE=image/jpeg:https://thespiritchurch.org/wp-content/uploads/2024/11/image-2.jpg
END:VEVENT
BEGIN:VEVENT
DTSTART;TZID=UTC:20270503T190000
DTEND;TZID=UTC:20270503T210000
DTSTAMP:20260423T223910
CREATED:20241103T025113Z
LAST-MODIFIED:20241103T041902Z
UID:10000033-1809370800-1809378000@thespiritchurch.org
SUMMARY:Men's Locker Room
DESCRIPTION:Men’s Locker Room is our monthly Bible study where men gather for fellowship\, growth\, and a powerful message from Pastor Aeneas.
URL:https://thespiritchurch.org/eventcalendar/mens-locker-room/2027-05-03/
ATTACH;FMTTYPE=image/jpeg:https://thespiritchurch.org/wp-content/uploads/2024/11/image-2.jpg
END:VEVENT
BEGIN:VEVENT
DTSTART;TZID=UTC:20270607T190000
DTEND;TZID=UTC:20270607T210000
DTSTAMP:20260423T223910
CREATED:20241103T025113Z
LAST-MODIFIED:20241103T041902Z
UID:10000034-1812394800-1812402000@thespiritchurch.org
SUMMARY:Men's Locker Room
DESCRIPTION:Men’s Locker Room is our monthly Bible study where men gather for fellowship\, growth\, and a powerful message from Pastor Aeneas.
URL:https://thespiritchurch.org/eventcalendar/mens-locker-room/2027-06-07/
ATTACH;FMTTYPE=image/jpeg:https://thespiritchurch.org/wp-content/uploads/2024/11/image-2.jpg
END:VEVENT
BEGIN:VEVENT
DTSTART;TZID=UTC:20270705T190000
DTEND;TZID=UTC:20270705T210000
DTSTAMP:20260423T223910
CREATED:20241103T025113Z
LAST-MODIFIED:20241103T041902Z
UID:10000035-1814814000-1814821200@thespiritchurch.org
SUMMARY:Men's Locker Room
DESCRIPTION:Men’s Locker Room is our monthly Bible study where men gather for fellowship\, growth\, and a powerful message from Pastor Aeneas.
URL:https://thespiritchurch.org/eventcalendar/mens-locker-room/2027-07-05/
ATTACH;FMTTYPE=image/jpeg:https://thespiritchurch.org/wp-content/uploads/2024/11/image-2.jpg
END:VEVENT
BEGIN:VEVENT
DTSTART;TZID=UTC:20270802T190000
DTEND;TZID=UTC:20270802T210000
DTSTAMP:20260423T223910
CREATED:20241103T025113Z
LAST-MODIFIED:20241103T041902Z
UID:10000036-1817233200-1817240400@thespiritchurch.org
SUMMARY:Men's Locker Room
DESCRIPTION:Men’s Locker Room is our monthly Bible study where men gather for fellowship\, growth\, and a powerful message from Pastor Aeneas.
URL:https://thespiritchurch.org/eventcalendar/mens-locker-room/2027-08-02/
ATTACH;FMTTYPE=image/jpeg:https://thespiritchurch.org/wp-content/uploads/2024/11/image-2.jpg
END:VEVENT
BEGIN:VEVENT
DTSTART;TZID=UTC:20270906T190000
DTEND;TZID=UTC:20270906T210000
DTSTAMP:20260423T223910
CREATED:20241103T025113Z
LAST-MODIFIED:20241103T041902Z
UID:10000037-1820257200-1820264400@thespiritchurch.org
SUMMARY:Men's Locker Room
DESCRIPTION:Men’s Locker Room is our monthly Bible study where men gather for fellowship\, growth\, and a powerful message from Pastor Aeneas.
URL:https://thespiritchurch.org/eventcalendar/mens-locker-room/2027-09-06/
ATTACH;FMTTYPE=image/jpeg:https://thespiritchurch.org/wp-content/uploads/2024/11/image-2.jpg
END:VEVENT
BEGIN:VEVENT
DTSTART;TZID=UTC:20271004T190000
DTEND;TZID=UTC:20271004T210000
DTSTAMP:20260423T223910
CREATED:20241103T025113Z
LAST-MODIFIED:20241103T041902Z
UID:10000038-1822676400-1822683600@thespiritchurch.org
SUMMARY:Men's Locker Room
DESCRIPTION:Men’s Locker Room is our monthly Bible study where men gather for fellowship\, growth\, and a powerful message from Pastor Aeneas.
URL:https://thespiritchurch.org/eventcalendar/mens-locker-room/2027-10-04/
ATTACH;FMTTYPE=image/jpeg:https://thespiritchurch.org/wp-content/uploads/2024/11/image-2.jpg
END:VEVENT
END:VCALENDAR