BEGIN:VCALENDAR
VERSION:2.0
PRODID:-//The Spirit Church - ECPv6.15.20//NONSGML v1.0//EN
CALSCALE:GREGORIAN
METHOD:PUBLISH
X-WR-CALNAME:The Spirit Church
X-ORIGINAL-URL:https://thespiritchurch.org
X-WR-CALDESC:Events for The Spirit Church
REFRESH-INTERVAL;VALUE=DURATION:PT1H
X-Robots-Tag:noindex
X-PUBLISHED-TTL:PT1H
BEGIN:VTIMEZONE
TZID:UTC
BEGIN:STANDARD
TZOFFSETFROM:+0000
TZOFFSETTO:+0000
TZNAME:UTC
DTSTART:20230101T000000
END:STANDARD
END:VTIMEZONE
BEGIN:VEVENT
DTSTART;TZID=UTC:20241104T190000
DTEND;TZID=UTC:20241104T210000
DTSTAMP:20260423T234751
CREATED:20250423T220355Z
LAST-MODIFIED:20250423T220355Z
UID:10000875-1730746800-1730754000@thespiritchurch.org
SUMMARY:Men's Locker Room
DESCRIPTION:Men’s Locker Room is our monthly Bible study where men gather for fellowship\, growth\, and a powerful message from Pastor Aeneas.
URL:https://thespiritchurch.org/eventcalendar/mens-locker-room-5/
ATTACH;FMTTYPE=image/jpeg:https://thespiritchurch.org/wp-content/uploads/2024/11/image-2.jpg
END:VEVENT
BEGIN:VEVENT
DTSTART;TZID=UTC:20241106T120000
DTEND;TZID=UTC:20241106T133000
DTSTAMP:20260423T234751
CREATED:20241103T030519Z
LAST-MODIFIED:20241114T201640Z
UID:10000063-1730894400-1730899800@thespiritchurch.org
SUMMARY:Wisdom Wednesday
DESCRIPTION:Join us for our weekly midday Bible study! Pastor Aeneas shares a practical word. After the message\, we’ll have a question-and-answer time where everyone can join in\, ask questions\, and talk more about the sermon. It’s a great chance to grow in faith and connect with others in our community.
URL:https://thespiritchurch.org/eventcalendar/wisdom-wednesday/2024-11-06/
ATTACH;FMTTYPE=image/jpeg:https://thespiritchurch.org/wp-content/uploads/2024/11/image-1.jpg
END:VEVENT
BEGIN:VEVENT
DTSTART;TZID=UTC:20241109T090000
DTEND;TZID=UTC:20241109T110000
DTSTAMP:20260423T234751
CREATED:20241108T000334Z
LAST-MODIFIED:20241108T000410Z
UID:10000078-1731142800-1731150000@thespiritchurch.org
SUMMARY:Intercessory Prayer & Five-Fold Ministry Training
DESCRIPTION:Pastor Aeneas will be leading Five-Fold Ministry Training and Intercessory Prayer sessions starting this Saturday at 9:00 AM\, and continuing every Saturday after that. \nThese sessions offer an opportunity to deepen your calling\, grow in your spiritual gifts\, and connect with other committed believers. You can join us in person in the Adult Classroom or via Zoom. \nZoom Link:\nhttps://us02web.zoom.us/j/85603661241?pwd=dDdjN0I2dmY0elZvbmxiTUZrMVpnQT09 \nMeeting ID: 856 0366 1241\nPasscode: 320393 \nWe look forward to growing together in faith and service—see you this Saturday!
URL:https://thespiritchurch.org/eventcalendar/intercessory-prayer-five-fold-ministry-training/2024-11-09/
ATTACH;FMTTYPE=image/png:https://thespiritchurch.org/wp-content/uploads/2024/11/Colourful-Bright-Grainy-Gradient-Christian-Transformation-Sermon-Church-Presentation-2.png
END:VEVENT
BEGIN:VEVENT
DTSTART;VALUE=DATE:20241110
DTEND;VALUE=DATE:20241111
DTSTAMP:20260423T234751
CREATED:20241103T042856Z
LAST-MODIFIED:20241103T051805Z
UID:10000070-1731196800-1731283199@thespiritchurch.org
SUMMARY:Christmas Tree of Love: Assistance Program
DESCRIPTION:Holiday Program Disclaimer\nThe Spirit Church receives a high volume of requests for assistance during the holiday season. While we are dedicated to supporting families in need\, we are unable to accommodate every request. This year\, we will select 25 families for our Holiday Assistance Program. Please note that submitting an application does not guarantee acceptance. The selection committee will carefully review all online applications submitted by the deadline. Any applications submitted after the deadline will not be considered. NO paper applications will be accepted. \nApplications must be submitted by Sunday\, November 10\, 2024. LATE APPLICATIONS WILL NOT BE ACCEPTED. \nHoliday Program Rules \n1. All families requesting assistance must complete the 2024 Application for Holiday Assistance and have all completed documentation submitted by November 10\, 2024. \n2. Picture ID for all adults in the household. \n3. The Older and Wiser Ministry\, may request documentation of families selected to receive assistance to provide guardianship or documentation that all children are residing under your care and proof of residence. This is not required for the first initial application. \n4. After all required documents have been submitted to the Office\, the application will be given to our Older and Wiser Committee. Those families chosen will be notified by phone or email indicating acceptance or our inability to assist this holiday season. \nThe following documentation is required for all accepted applicants \n1.  Picture ID for adult applicant. \n  \nLink to fill out application:https://the-spirit-church-67999.churchcenter.com/registrations/events/2567464
URL:https://thespiritchurch.org/eventcalendar/christmas-tree-of-love-assistance-program/
ATTACH;FMTTYPE=image/png:https://thespiritchurch.org/wp-content/uploads/2024/11/Christmas-Tree-of-Love-Website750-×-430-px.png
END:VEVENT
BEGIN:VEVENT
DTSTART;TZID=UTC:20241110T090000
DTEND;TZID=UTC:20241110T110000
DTSTAMP:20260423T234751
CREATED:20241103T043336Z
LAST-MODIFIED:20241103T053616Z
UID:10000071-1731229200-1731236400@thespiritchurch.org
SUMMARY:Water Baptism
DESCRIPTION:Ready to take your next step in your Salvation? Water Baptism is an outward sign of an inward work. Sign up for our next Baptism by clicking the link below. \nBaptism Registration Link: https://the-spirit-church-67999.churchcenter.com/registrations/events/2387597
URL:https://thespiritchurch.org/eventcalendar/water-baptism/
ATTACH;FMTTYPE=image/jpeg:https://thespiritchurch.org/wp-content/uploads/2024/11/image-2-1.jpg
END:VEVENT
BEGIN:VEVENT
DTSTART;TZID=UTC:20241110T153000
DTEND;TZID=UTC:20241110T173000
DTSTAMP:20260423T234751
CREATED:20241108T185547Z
LAST-MODIFIED:20241108T185547Z
UID:10000084-1731252600-1731259800@thespiritchurch.org
SUMMARY:RiSE Youth Service
DESCRIPTION:This service is for our middle school and high school students every 2nd and 4th Sunday of the month. In November students will only be meeting on 2nd Sunday.
URL:https://thespiritchurch.org/eventcalendar/rise-youth-service/
ATTACH;FMTTYPE=image/png:https://thespiritchurch.org/wp-content/uploads/2024/11/RiSE-Lock-In-3.png
END:VEVENT
BEGIN:VEVENT
DTSTART;TZID=UTC:20241113T120000
DTEND;TZID=UTC:20241113T133000
DTSTAMP:20260423T234751
CREATED:20241114T202357Z
LAST-MODIFIED:20241114T202357Z
UID:10000088-1731499200-1731504600@thespiritchurch.org
SUMMARY:Wisdom Wednesday
DESCRIPTION:Join us for our weekly midday Bible study! Pastor Aeneas shares a practical word. After the message\, we’ll have a question-and-answer time where everyone can join in\, ask questions\, and talk more about the sermon. It’s a great chance to grow in faith and connect with others in our community.
URL:https://thespiritchurch.org/eventcalendar/wisdom-wednesday-2/2024-11-13/
ATTACH;FMTTYPE=image/jpeg:https://thespiritchurch.org/wp-content/uploads/2024/11/image-1.jpg
END:VEVENT
BEGIN:VEVENT
DTSTART;TZID=UTC:20241113T120000
DTEND;TZID=UTC:20241113T133000
DTSTAMP:20260423T234751
CREATED:20241103T030519Z
LAST-MODIFIED:20241114T201640Z
UID:10000064-1731499200-1731504600@thespiritchurch.org
SUMMARY:Wisdom Wednesday
DESCRIPTION:Join us for our weekly midday Bible study! Pastor Aeneas shares a practical word. After the message\, we’ll have a question-and-answer time where everyone can join in\, ask questions\, and talk more about the sermon. It’s a great chance to grow in faith and connect with others in our community.
URL:https://thespiritchurch.org/eventcalendar/wisdom-wednesday/2024-11-13/
ATTACH;FMTTYPE=image/jpeg:https://thespiritchurch.org/wp-content/uploads/2024/11/image-1.jpg
END:VEVENT
BEGIN:VEVENT
DTSTART;TZID=UTC:20241116T090000
DTEND;TZID=UTC:20241116T110000
DTSTAMP:20260423T234751
CREATED:20241108T000334Z
LAST-MODIFIED:20241108T000410Z
UID:10000079-1731747600-1731754800@thespiritchurch.org
SUMMARY:Intercessory Prayer & Five-Fold Ministry Training
DESCRIPTION:Pastor Aeneas will be leading Five-Fold Ministry Training and Intercessory Prayer sessions starting this Saturday at 9:00 AM\, and continuing every Saturday after that. \nThese sessions offer an opportunity to deepen your calling\, grow in your spiritual gifts\, and connect with other committed believers. You can join us in person in the Adult Classroom or via Zoom. \nZoom Link:\nhttps://us02web.zoom.us/j/85603661241?pwd=dDdjN0I2dmY0elZvbmxiTUZrMVpnQT09 \nMeeting ID: 856 0366 1241\nPasscode: 320393 \nWe look forward to growing together in faith and service—see you this Saturday!
URL:https://thespiritchurch.org/eventcalendar/intercessory-prayer-five-fold-ministry-training/2024-11-16/
ATTACH;FMTTYPE=image/png:https://thespiritchurch.org/wp-content/uploads/2024/11/Colourful-Bright-Grainy-Gradient-Christian-Transformation-Sermon-Church-Presentation-2.png
END:VEVENT
BEGIN:VEVENT
DTSTART;TZID=UTC:20241116T090000
DTEND;TZID=UTC:20241116T120000
DTSTAMP:20260423T234751
CREATED:20241103T043749Z
LAST-MODIFIED:20241103T043841Z
UID:10000072-1731747600-1731758400@thespiritchurch.org
SUMMARY:Surviving The Holidays: Session 1
DESCRIPTION:“Surviving the Holidays” sessions offer compassionate support for individuals coping with grief due to the loss of loved ones\, divorce\, or separation. These sessions provide guidance and foster a sense of community to help navigate the emotional challenges of the holiday season. \nParticipants can choose between two sessions: November 16th or December 7th. We will have two separate groups: GriefShare and DivorceCare. \n  \nClick the link to register: https://the-spirit-church-67999.churchcenter.com/registrations/events/2593357
URL:https://thespiritchurch.org/eventcalendar/surviving-the-holidays-session-1/
ATTACH;FMTTYPE=image/png:https://thespiritchurch.org/wp-content/uploads/2024/11/2-2.png
END:VEVENT
BEGIN:VEVENT
DTSTART;TZID=UTC:20241117T103000
DTEND;TZID=UTC:20241117T133000
DTSTAMP:20260423T234751
CREATED:20241103T044445Z
LAST-MODIFIED:20241103T044445Z
UID:10000074-1731839400-1731850200@thespiritchurch.org
SUMMARY:Small Business Sunday
DESCRIPTION:We are excited to host our first Small Business Sunday\, where we want to support the entrepreneurs within our church family. This event is open to confirmed active members. It is part of our commitment to in-reach\, encouraging the gifts and talents of our members while fostering a spirit of community and collaboration. The cost to participate is $25.00 and space is limited. All participants must register via\, the link below. \nVendor Registration Link: https://the-spirit-church-67999.churchcenter.com/registrations/events/2550843
URL:https://thespiritchurch.org/eventcalendar/small-business-sunday/
ATTACH;FMTTYPE=image/png:https://thespiritchurch.org/wp-content/uploads/2024/10/Small-Business-Sunday-1-1.png
END:VEVENT
BEGIN:VEVENT
DTSTART;TZID=UTC:20241120T120000
DTEND;TZID=UTC:20241120T133000
DTSTAMP:20260423T234751
CREATED:20241114T202357Z
LAST-MODIFIED:20241114T202357Z
UID:10000089-1732104000-1732109400@thespiritchurch.org
SUMMARY:Wisdom Wednesday
DESCRIPTION:Join us for our weekly midday Bible study! Pastor Aeneas shares a practical word. After the message\, we’ll have a question-and-answer time where everyone can join in\, ask questions\, and talk more about the sermon. It’s a great chance to grow in faith and connect with others in our community.
URL:https://thespiritchurch.org/eventcalendar/wisdom-wednesday-2/2024-11-20/
ATTACH;FMTTYPE=image/jpeg:https://thespiritchurch.org/wp-content/uploads/2024/11/image-1.jpg
END:VEVENT
BEGIN:VEVENT
DTSTART;TZID=UTC:20241122T180000
DTEND;TZID=UTC:20241122T210000
DTSTAMP:20260423T234751
CREATED:20241103T044847Z
LAST-MODIFIED:20241103T044847Z
UID:10000075-1732298400-1732309200@thespiritchurch.org
SUMMARY:Young Adult Friendsgiving
DESCRIPTION:Calling all young adults ages 18 to 30! Next Up Young Adult Ministry is hosting a Friendsgiving on Friday\, November 22nd\, at 6 p.m. Dinner will be provided\, but if you’d like to contribute\, feel free to sign up to bring a store-bought dessert or side dish—or simply select the standard option via the link below.  \nPlease RSVP by Friday\, November 15th! \nRegistration Link: https://the-spirit-church-67999.churchcenter.com/registrations/events/2586410
URL:https://thespiritchurch.org/eventcalendar/young-adult-friendsgiving/
ATTACH;FMTTYPE=image/png:https://thespiritchurch.org/wp-content/uploads/2024/11/Next-Up-Rolling-Slides-7.png
END:VEVENT
BEGIN:VEVENT
DTSTART;TZID=UTC:20241123T090000
DTEND;TZID=UTC:20241123T110000
DTSTAMP:20260423T234751
CREATED:20241108T000334Z
LAST-MODIFIED:20241108T000410Z
UID:10000080-1732352400-1732359600@thespiritchurch.org
SUMMARY:Intercessory Prayer & Five-Fold Ministry Training
DESCRIPTION:Pastor Aeneas will be leading Five-Fold Ministry Training and Intercessory Prayer sessions starting this Saturday at 9:00 AM\, and continuing every Saturday after that. \nThese sessions offer an opportunity to deepen your calling\, grow in your spiritual gifts\, and connect with other committed believers. You can join us in person in the Adult Classroom or via Zoom. \nZoom Link:\nhttps://us02web.zoom.us/j/85603661241?pwd=dDdjN0I2dmY0elZvbmxiTUZrMVpnQT09 \nMeeting ID: 856 0366 1241\nPasscode: 320393 \nWe look forward to growing together in faith and service—see you this Saturday!
URL:https://thespiritchurch.org/eventcalendar/intercessory-prayer-five-fold-ministry-training/2024-11-23/
ATTACH;FMTTYPE=image/png:https://thespiritchurch.org/wp-content/uploads/2024/11/Colourful-Bright-Grainy-Gradient-Christian-Transformation-Sermon-Church-Presentation-2.png
END:VEVENT
BEGIN:VEVENT
DTSTART;TZID=UTC:20241127T120000
DTEND;TZID=UTC:20241127T130000
DTSTAMP:20260423T234751
CREATED:20241125T145338Z
LAST-MODIFIED:20241125T145338Z
UID:10000095-1732708800-1732712400@thespiritchurch.org
SUMMARY:Wisdom Wednesday CANCELLED
DESCRIPTION:Wisdom Wednesday/Life Training will resume on Wednesday\, December 4th.
URL:https://thespiritchurch.org/eventcalendar/wisdom-wednesday-cancelled/
ATTACH;FMTTYPE=image/png:https://thespiritchurch.org/wp-content/uploads/2024/11/PLATFORM-18.png
END:VEVENT
BEGIN:VEVENT
DTSTART;TZID=UTC:20241130T090000
DTEND;TZID=UTC:20241130T110000
DTSTAMP:20260423T234751
CREATED:20241125T145646Z
LAST-MODIFIED:20241125T145646Z
UID:10000096-1732957200-1732964400@thespiritchurch.org
SUMMARY:Intercessory Prayer & Five-Fold Ministry Training CANCELLED
DESCRIPTION:Intercessory Prayer & Five Fold Ministry Training is CANCELLED on Saturday\, November 30th. We will resume on Saturday\, December 7th.
URL:https://thespiritchurch.org/eventcalendar/intercessory-prayer-five-fold-ministry-training-cancelled/
ATTACH;FMTTYPE=image/png:https://thespiritchurch.org/wp-content/uploads/2024/11/Colourful-Bright-Grainy-Gradient-Christian-Transformation-Sermon-Church-Presentation-3.png
END:VEVENT
BEGIN:VEVENT
DTSTART;TZID=UTC:20241202T190000
DTEND;TZID=UTC:20241202T210000
DTSTAMP:20260423T234751
CREATED:20241103T025113Z
LAST-MODIFIED:20241103T041902Z
UID:10000004-1733166000-1733173200@thespiritchurch.org
SUMMARY:Men's Locker Room
DESCRIPTION:Men’s Locker Room is our monthly Bible study where men gather for fellowship\, growth\, and a powerful message from Pastor Aeneas.
URL:https://thespiritchurch.org/eventcalendar/mens-locker-room/2024-12-02/
ATTACH;FMTTYPE=image/jpeg:https://thespiritchurch.org/wp-content/uploads/2024/11/image-2.jpg
END:VEVENT
BEGIN:VEVENT
DTSTART;TZID=UTC:20241206T190000
DTEND;TZID=UTC:20241206T220000
DTSTAMP:20260423T234751
CREATED:20241103T050810Z
LAST-MODIFIED:20241114T161854Z
UID:10000076-1733511600-1733522400@thespiritchurch.org
SUMMARY:Wonder Women Christmas Pajama Party
DESCRIPTION:Ladies\, kick off the holiday season with us! \nJoin us on Friday\, December 6th\, for a night of fun\, laughter\, and dancing! Doors open at 6:30 p.m.\, and the event kicks off at 7:00 p.m. Come dressed in your favorite jewel-tone pajamas\, and let’s celebrate together. Please note: This event is for ages 13 and older\, and childcare will not be provided. \nDress for the theme!\nCome dressed in your favorite jewel-tone pajamas. Below\, you’ll find a color and style guide with examples and purchase options. The style guide is available for you to use as a reference or to shop from. Feel free to wear pajamas you already own\, or purchase from any store of your choice. \nReserve your spot today!\nEarly bird tickets are just $35 until November 29th—after that\, the price will increase to $40. Tickets include hors d’oeuvres\, a delicious buffet dinner\, and exciting giveaways you won’t want to miss! \nLinks: \n\nPurchase Tickets\nJewel-Tone Colors & Style Guide\n\nWe can’t wait to celebrate with you!
URL:https://thespiritchurch.org/eventcalendar/wonder-women-pajama-christmas-party/
ATTACH;FMTTYPE=image/png:https://thespiritchurch.org/wp-content/uploads/2024/11/Wonder-Women-Generic-.png
END:VEVENT
BEGIN:VEVENT
DTSTART;TZID=UTC:20241207T090000
DTEND;TZID=UTC:20241207T120000
DTSTAMP:20260423T234751
CREATED:20241103T044048Z
LAST-MODIFIED:20241103T061920Z
UID:10000073-1733562000-1733572800@thespiritchurch.org
SUMMARY:Surviving The Holidays: Session 2
DESCRIPTION:“Surviving the Holidays” sessions offer compassionate support for individuals coping with grief due to the loss of loved ones\, divorce\, or separation. These sessions provide guidance and foster a sense of community to help navigate the emotional challenges of the holiday season. \nParticipants can choose between two sessions: November 16th or December 7th. We will have two separate groups: GriefShare and DivorceCare. \nClick the link to register:https://the-spirit-church-67999.churchcenter.com/registrations/events/2593357
URL:https://thespiritchurch.org/eventcalendar/surviving-the-holidays-session-2/
ATTACH;FMTTYPE=image/png:https://thespiritchurch.org/wp-content/uploads/2024/11/2-2.png
END:VEVENT
BEGIN:VEVENT
DTSTART;TZID=UTC:20241208T153000
DTEND;TZID=UTC:20241208T173000
DTSTAMP:20260423T234751
CREATED:20241120T220335Z
LAST-MODIFIED:20241120T220335Z
UID:10000094-1733671800-1733679000@thespiritchurch.org
SUMMARY:RiSE Christmas Party
DESCRIPTION:Celebrate the season with our annual RiSE Christmas party! This event is for our middle and high school students that’s all about festive fun! Don’t forget to bring a $5 white elephant gift!
URL:https://thespiritchurch.org/eventcalendar/rise-christmas-party/
ATTACH;FMTTYPE=image/png:https://thespiritchurch.org/wp-content/uploads/2024/11/Rise-Christmas-Party-.png
END:VEVENT
BEGIN:VEVENT
DTSTART;TZID=UTC:20241215T090000
DTEND;TZID=UTC:20241215T123000
DTSTAMP:20260423T234751
CREATED:20241114T203733Z
LAST-MODIFIED:20241114T203947Z
UID:10000090-1734253200-1734265800@thespiritchurch.org
SUMMARY:Guest Speaker: Tim Ross
DESCRIPTION:Get ready for an impactful Sunday! Pastor Tim Ross will be with us\, teaching at both our 9 a.m. and 11 a.m. services. Mark your calendars and come be a part of it!
URL:https://thespiritchurch.org/eventcalendar/guest-speaker-tim-ross/
ATTACH;FMTTYPE=image/png:https://thespiritchurch.org/wp-content/uploads/2024/11/Tim-Ross-Guest-Speaker-2.png
END:VEVENT
BEGIN:VEVENT
DTSTART;TZID=UTC:20241218T120000
DTEND;TZID=UTC:20241218T133000
DTSTAMP:20260423T234751
CREATED:20241216T210847Z
LAST-MODIFIED:20241216T210848Z
UID:10000102-1734523200-1734528600@thespiritchurch.org
SUMMARY:Wisdom Wednesday
DESCRIPTION:Join us for our weekly midday Bible study! Pastor Aeneas shares a practical word. After the message\, we’ll have a question-and-answer time where everyone can join in\, ask questions\, and talk more about the sermon. It’s a great chance to grow in faith and connect with others in our community.
URL:https://thespiritchurch.org/eventcalendar/wisdom-wednesday-3-2/
ATTACH;FMTTYPE=image/jpeg:https://thespiritchurch.org/wp-content/uploads/2024/11/image-1.jpg
END:VEVENT
BEGIN:VEVENT
DTSTART;TZID=UTC:20241222T090000
DTEND;TZID=UTC:20241222T123000
DTSTAMP:20260423T234751
CREATED:20241118T184726Z
LAST-MODIFIED:20241118T185041Z
UID:10000092-1734858000-1734870600@thespiritchurch.org
SUMMARY:Ugly Christmas Sweater Sunday
DESCRIPTION:Join us for our festive annual Ugly Christmas Sweater Sunday! Come dressed in your favorite holiday sweater and celebrate with us. After both services\, be sure to stop by our family photo booths. We look forward to celebrating with you!
URL:https://thespiritchurch.org/eventcalendar/ugly-christmas-sweater-sunday/
ATTACH;FMTTYPE=image/png:https://thespiritchurch.org/wp-content/uploads/2024/11/Ugly-Christmas-Sweater-Sunday-2.png
END:VEVENT
BEGIN:VEVENT
DTSTART;TZID=UTC:20241224T160000
DTEND;TZID=UTC:20241224T171500
DTSTAMP:20260423T234751
CREATED:20241118T183521Z
LAST-MODIFIED:20241118T183521Z
UID:10000091-1735056000-1735060500@thespiritchurch.org
SUMMARY:Christmas Eve Candlelight Family Service
DESCRIPTION:Come gather with us on Christmas Eve at 4 p.m. for a beautiful Candlelight Service\, where we will celebrate the hope and joy of Christ’s birth through music\, scripture\, and the warm glow of candles. It’s a special time to reflect on the true meaning of Christmas and share in the light of God’s love. All are invited to join in this meaningful tradition. \n*childcare provided for children 5 and under
URL:https://thespiritchurch.org/eventcalendar/christmas-eve-candlelight-family-service/
ATTACH;FMTTYPE=image/png:https://thespiritchurch.org/wp-content/uploads/2024/11/Christmas-Eve.png
END:VEVENT
BEGIN:VEVENT
DTSTART;TZID=UTC:20241225T120000
DTEND;TZID=UTC:20241225T130000
DTSTAMP:20260423T234751
CREATED:20241216T211120Z
LAST-MODIFIED:20241216T211120Z
UID:10000103-1735128000-1735131600@thespiritchurch.org
SUMMARY:Wisdom Wednesday CANCELLED
DESCRIPTION:Wisdom Wednesday/Life Training will resume in 2025.
URL:https://thespiritchurch.org/eventcalendar/wisdom-wednesday-cancelled-2/
ATTACH;FMTTYPE=image/png:https://thespiritchurch.org/wp-content/uploads/2024/11/PLATFORM-18.png
END:VEVENT
BEGIN:VEVENT
DTSTART;TZID=UTC:20241231T220000
DTEND;TZID=UTC:20250101T010000
DTSTAMP:20260423T234751
CREATED:20241120T143956Z
LAST-MODIFIED:20241120T144105Z
UID:10000093-1735682400-1735693200@thespiritchurch.org
SUMMARY:New Year's Celebration: Suits & Sequins The Sequel
DESCRIPTION:Step into the New Year with style and joy at the Spirit Church’s New Year’s Eve Celebration! Join us for an unforgettable evening filled with uplifting worship\, a brief and inspiring message to set the tone for the year ahead\, and an electrifying countdown to welcome the new beginnings. \nBut the excitement doesn’t end there – after the countdown\, the celebration continues with a dazzling after-party! Come dressed to IMPRESS in your finest suits and sequins\, as we dance\, laugh\, and fellowship together into the early hours of the new year. Invite your friends and family and meet us at The Spirit Church!
URL:https://thespiritchurch.org/eventcalendar/nye/
ATTACH;FMTTYPE=image/png:https://thespiritchurch.org/wp-content/uploads/2024/11/New-Years-Eve-Celebration-2.png
END:VEVENT
BEGIN:VEVENT
DTSTART;TZID=UTC:20250101T120000
DTEND;TZID=UTC:20250101T130000
DTSTAMP:20260423T234751
CREATED:20241227T221503Z
LAST-MODIFIED:20241227T221534Z
UID:10000397-1735732800-1735736400@thespiritchurch.org
SUMMARY:Wisdom Wednesday CANCELLED
DESCRIPTION:Wisdom Wednesday/Life Training will resume soon.
URL:https://thespiritchurch.org/eventcalendar/wisdom-wednesday-cancelled-copy/
ATTACH;FMTTYPE=image/png:https://thespiritchurch.org/wp-content/uploads/2024/11/PLATFORM-18.png
END:VEVENT
BEGIN:VEVENT
DTSTART;TZID=UTC:20250106T190000
DTEND;TZID=UTC:20250106T210000
DTSTAMP:20260423T234751
CREATED:20250104T195236Z
LAST-MODIFIED:20250104T195310Z
UID:10000005-1736190000-1736197200@thespiritchurch.org
SUMMARY:Men's Locker Room CANCELED
DESCRIPTION:Men’s Locker Room is canceled for Monday\, January 6th. It will resume on the first Monday in February.
URL:https://thespiritchurch.org/eventcalendar/mens-locker-room-2/
ATTACH;FMTTYPE=image/png:https://thespiritchurch.org/wp-content/uploads/2024/11/Mens-Locker-Room-2.png
END:VEVENT
BEGIN:VEVENT
DTSTART;TZID=UTC:20250112T153000
DTEND;TZID=UTC:20250112T173000
DTSTAMP:20260423T234751
CREATED:20241228T041045Z
LAST-MODIFIED:20241228T041313Z
UID:10000399-1736695800-1736703000@thespiritchurch.org
SUMMARY:RiSE Youth Service
DESCRIPTION:This service is for our middle school and high school students every 2nd and 4th Sunday of the month.
URL:https://thespiritchurch.org/eventcalendar/rise-youth-service-2/
ATTACH;FMTTYPE=image/png:https://thespiritchurch.org/wp-content/uploads/2024/11/RiSE-Lock-In-3.png
END:VEVENT
BEGIN:VEVENT
DTSTART;TZID=UTC:20250117T190000
DTEND;TZID=UTC:20250117T210000
DTSTAMP:20260423T234751
CREATED:20241228T040712Z
LAST-MODIFIED:20250111T022052Z
UID:10000398-1737140400-1737147600@thespiritchurch.org
SUMMARY:Wonder Women Vision Board Party
DESCRIPTION:Calling All Wonder Women!\nIt’s time for our annual Vision Board Party! Start the year off right by seeking the Lord and writing down the vision\, making it plain as inspired by Habakkuk 2:2-3. Invite your friends and join us for an evening filled with fun and vision casting for 2025. \nDon’t forget to bring your own supplies\, poster boards will be on sale for $2! \nPlease note: No childcare will be provided.
URL:https://thespiritchurch.org/eventcalendar/wonder-women-vision-board-party/
ATTACH;FMTTYPE=image/png:https://thespiritchurch.org/wp-content/uploads/2024/12/8.png
END:VEVENT
END:VCALENDAR