BEGIN:VCALENDAR
VERSION:2.0
PRODID:-//The Spirit Church - ECPv6.15.20//NONSGML v1.0//EN
CALSCALE:GREGORIAN
METHOD:PUBLISH
X-WR-CALNAME:The Spirit Church
X-ORIGINAL-URL:https://thespiritchurch.org
X-WR-CALDESC:Events for The Spirit Church
REFRESH-INTERVAL;VALUE=DURATION:PT1H
X-Robots-Tag:noindex
X-PUBLISHED-TTL:PT1H
BEGIN:VTIMEZONE
TZID:UTC
BEGIN:STANDARD
TZOFFSETFROM:+0000
TZOFFSETTO:+0000
TZNAME:UTC
DTSTART:20250101T000000
END:STANDARD
END:VTIMEZONE
BEGIN:VEVENT
DTSTART;TZID=UTC:20260123T180000
DTEND;TZID=UTC:20260123T200000
DTSTAMP:20260423T234753
CREATED:20260104T144013Z
LAST-MODIFIED:20260104T144014Z
UID:10000939-1769191200-1769198400@thespiritchurch.org
SUMMARY:Next Up Service
DESCRIPTION:Our Young Adult Service is canceled for the month of January. We will resume in February.
URL:https://thespiritchurch.org/eventcalendar/next-up-service-5-2/
ATTACH;FMTTYPE=image/png:https://thespiritchurch.org/wp-content/uploads/2025/05/NEXT-UP-CANCELED-1.png
END:VEVENT
BEGIN:VEVENT
DTSTART;VALUE=DATE:20260125
DTEND;VALUE=DATE:20260126
DTSTAMP:20260423T234753
CREATED:20260125T031628Z
LAST-MODIFIED:20260125T031628Z
UID:10000992-1769299200-1769385599@thespiritchurch.org
SUMMARY:In-Person Services Canceled – January 25
DESCRIPTION:Out of an abundance of caution and in alignment with the State of Emergency issued by the State of Missouri\, we will not be holding in-person services on Sunday\, January 25. \nThe safety of our church family\, our teams\, and our families is our top priority. \nChurch is still happening online! Join us online at 9:00 AM or 11:00 AM via YouTube\, Facebook\, or our website.
URL:https://thespiritchurch.org/eventcalendar/in-person-services-canceled-january-25/
ATTACH;FMTTYPE=image/png:https://thespiritchurch.org/wp-content/uploads/2026/01/Services-Canceled-Inclement-Weather-125-1-1.png
END:VEVENT
BEGIN:VEVENT
DTSTART;TZID=UTC:20260125T104500
DTEND;TZID=UTC:20260125T120000
DTSTAMP:20260423T234753
CREATED:20260113T202524Z
LAST-MODIFIED:20260113T203310Z
UID:10000986-1769337900-1769342400@thespiritchurch.org
SUMMARY:New Believers Class
DESCRIPTION:The New Believers Class is designed for anyone who has recently accepted Christ. Our goal is to help you understand what it means to walk with Jesus and grow in your faith. This class meets every Sunday following the 9:00 a.m. service in the adult classroom.
URL:https://thespiritchurch.org/eventcalendar/new-believers-class/2026-01-25/
ATTACH;FMTTYPE=image/png:https://thespiritchurch.org/wp-content/uploads/2025/08/Final-Rolling-Slides-5-1.png
END:VEVENT
BEGIN:VEVENT
DTSTART;TZID=UTC:20260125T153000
DTEND;TZID=UTC:20260125T173000
DTSTAMP:20260423T234753
CREATED:20260107T174444Z
LAST-MODIFIED:20260108T171345Z
UID:10000961-1769355000-1769362200@thespiritchurch.org
SUMMARY:RiSE Middle School & High School Service CANCELED
DESCRIPTION:This service is for middle and high school students. We will not be meeting on the 4th Sunday of January.
URL:https://thespiritchurch.org/eventcalendar/rise-middle-school-high-school-service-canceled/
ATTACH;FMTTYPE=image/png:https://thespiritchurch.org/wp-content/uploads/2026/01/RiSE-Canceled-1.png
END:VEVENT
BEGIN:VEVENT
DTSTART;VALUE=DATE:20260201
DTEND;VALUE=DATE:20260202
DTSTAMP:20260423T234753
CREATED:20260121T165631Z
LAST-MODIFIED:20260121T165740Z
UID:10000991-1769904000-1769990399@thespiritchurch.org
SUMMARY:Wise Kids Superhero Sunday
DESCRIPTION:Wise Kids will be hosting Superhero Sunday on February 1. Come dressed as your favorite superhero and enjoy themed crafts and snacks!
URL:https://thespiritchurch.org/eventcalendar/wise-kids-superhero-sunday/
ATTACH;FMTTYPE=image/png:https://thespiritchurch.org/wp-content/uploads/2026/01/Wise-Kids-Super-Hero-Sunday.png
END:VEVENT
BEGIN:VEVENT
DTSTART;TZID=UTC:20260201T090000
DTEND;TZID=UTC:20260201T110000
DTSTAMP:20260423T234753
CREATED:20251229T193932Z
LAST-MODIFIED:20251229T193932Z
UID:10000946-1769936400-1769943600@thespiritchurch.org
SUMMARY:Baptism Sunday
DESCRIPTION:Ready to take the next step in your faith journey? Water Baptism is a public declaration of the transformation happening inside you.\n\nBaptism Sign Up Link: https://the-spirit-church-67999.churchcenter.com/registrations/events/2387597
URL:https://thespiritchurch.org/eventcalendar/baptism-sunday-3/
ATTACH;FMTTYPE=image/jpeg:https://thespiritchurch.org/wp-content/uploads/2024/11/image-2-1.jpg
END:VEVENT
BEGIN:VEVENT
DTSTART;TZID=UTC:20260201T104500
DTEND;TZID=UTC:20260201T120000
DTSTAMP:20260423T234753
CREATED:20260113T202524Z
LAST-MODIFIED:20260113T203310Z
UID:10000987-1769942700-1769947200@thespiritchurch.org
SUMMARY:New Believers Class
DESCRIPTION:The New Believers Class is designed for anyone who has recently accepted Christ. Our goal is to help you understand what it means to walk with Jesus and grow in your faith. This class meets every Sunday following the 9:00 a.m. service in the adult classroom.
URL:https://thespiritchurch.org/eventcalendar/new-believers-class/2026-02-01/
ATTACH;FMTTYPE=image/png:https://thespiritchurch.org/wp-content/uploads/2025/08/Final-Rolling-Slides-5-1.png
END:VEVENT
BEGIN:VEVENT
DTSTART;TZID=UTC:20260202T190000
DTEND;TZID=UTC:20260202T210000
DTSTAMP:20260423T234753
CREATED:20241103T025113Z
LAST-MODIFIED:20241103T041902Z
UID:10000018-1770058800-1770066000@thespiritchurch.org
SUMMARY:Men's Locker Room
DESCRIPTION:Men’s Locker Room is our monthly Bible study where men gather for fellowship\, growth\, and a powerful message from Pastor Aeneas.
URL:https://thespiritchurch.org/eventcalendar/mens-locker-room/2026-02-02/
ATTACH;FMTTYPE=image/jpeg:https://thespiritchurch.org/wp-content/uploads/2024/11/image-2.jpg
END:VEVENT
BEGIN:VEVENT
DTSTART;VALUE=DATE:20260208
DTEND;VALUE=DATE:20260209
DTSTAMP:20260423T234753
CREATED:20260108T200312Z
LAST-MODIFIED:20260108T200636Z
UID:10000962-1770508800-1770595199@thespiritchurch.org
SUMMARY:Spirit Bowl Sunday
DESCRIPTION:Join us on Sunday\, February 8\, for Spirit Bowl Sunday! Wear your favorite jersey and come ready for a great time. Wise Kids will also have their own fun with the Cereal Bowl\, where kids will enjoy some of their favorite cereal brands.
URL:https://thespiritchurch.org/eventcalendar/spirit-bowl-sunday-2/
ATTACH;FMTTYPE=image/png:https://thespiritchurch.org/wp-content/uploads/2026/01/Spirit-Bowl-Sunday-2026-WEB.png
END:VEVENT
BEGIN:VEVENT
DTSTART;TZID=UTC:20260208T104500
DTEND;TZID=UTC:20260208T120000
DTSTAMP:20260423T234753
CREATED:20260113T202524Z
LAST-MODIFIED:20260113T203310Z
UID:10000988-1770547500-1770552000@thespiritchurch.org
SUMMARY:New Believers Class
DESCRIPTION:The New Believers Class is designed for anyone who has recently accepted Christ. Our goal is to help you understand what it means to walk with Jesus and grow in your faith. This class meets every Sunday following the 9:00 a.m. service in the adult classroom.
URL:https://thespiritchurch.org/eventcalendar/new-believers-class/2026-02-08/
ATTACH;FMTTYPE=image/png:https://thespiritchurch.org/wp-content/uploads/2025/08/Final-Rolling-Slides-5-1.png
END:VEVENT
BEGIN:VEVENT
DTSTART;TZID=UTC:20260215T104500
DTEND;TZID=UTC:20260215T120000
DTSTAMP:20260423T234753
CREATED:20260113T202524Z
LAST-MODIFIED:20260113T203310Z
UID:10000989-1771152300-1771156800@thespiritchurch.org
SUMMARY:New Believers Class
DESCRIPTION:The New Believers Class is designed for anyone who has recently accepted Christ. Our goal is to help you understand what it means to walk with Jesus and grow in your faith. This class meets every Sunday following the 9:00 a.m. service in the adult classroom.
URL:https://thespiritchurch.org/eventcalendar/new-believers-class/2026-02-15/
ATTACH;FMTTYPE=image/png:https://thespiritchurch.org/wp-content/uploads/2025/08/Final-Rolling-Slides-5-1.png
END:VEVENT
BEGIN:VEVENT
DTSTART;TZID=UTC:20260221T110000
DTEND;TZID=UTC:20260221T133000
DTSTAMP:20260423T234753
CREATED:20260122T200009Z
LAST-MODIFIED:20260316T151659Z
UID:10000949-1771671600-1771680600@thespiritchurch.org
SUMMARY:Wise Steps Saturday (Membership Class)
DESCRIPTION:Interested in becoming a member of The Spirit Church?\n \nWise Steps is usually held on the second Saturday of each month at 11:00 a.m.; however\, this month it will be held on the third Saturday in observance of Valentine’s Day. These classes offer a streamlined\, fast-track experience\, allowing you to complete all four Wise Steps classes in just one day. During the classes\, you’ll learn who we are and how we partner together. \nDon’t let a busy schedule hold you back—take the next step with us! Let us know you’re coming by clicking here to register. 
URL:https://thespiritchurch.org/eventcalendar/wise-steps-saturday-membership-class/
ATTACH;FMTTYPE=image/png:https://thespiritchurch.org/wp-content/uploads/2025/03/Copy-of-Wise-Steps-Signs-1.png
END:VEVENT
BEGIN:VEVENT
DTSTART;VALUE=DATE:20260222
DTEND;VALUE=DATE:20260223
DTSTAMP:20260423T234753
CREATED:20260112T210712Z
LAST-MODIFIED:20260112T210848Z
UID:10000963-1771718400-1771804799@thespiritchurch.org
SUMMARY:Spring Life Group Kickoff
DESCRIPTION:We’re excited to launch our Spring 2026 Life Groups! Whether you’re looking to grow spiritually\, find community\, or both\, Life Groups are the place for you. Stop by the lobby after the 9:00 a.m. or 11:00 a.m. service to meet the leaders and sign up\, or visit our website at thespiritchurch.org/life-groups.
URL:https://thespiritchurch.org/eventcalendar/spring-life-group-kickoff-2/
ATTACH;FMTTYPE=image/png:https://thespiritchurch.org/wp-content/uploads/2026/01/Life-Groups-Spring-2026-Fall-Kickoff-WEB.png
END:VEVENT
BEGIN:VEVENT
DTSTART;TZID=UTC:20260222T104500
DTEND;TZID=UTC:20260222T120000
DTSTAMP:20260423T234753
CREATED:20260113T202524Z
LAST-MODIFIED:20260113T203310Z
UID:10000990-1771757100-1771761600@thespiritchurch.org
SUMMARY:New Believers Class
DESCRIPTION:The New Believers Class is designed for anyone who has recently accepted Christ. Our goal is to help you understand what it means to walk with Jesus and grow in your faith. This class meets every Sunday following the 9:00 a.m. service in the adult classroom.
URL:https://thespiritchurch.org/eventcalendar/new-believers-class/2026-02-22/
ATTACH;FMTTYPE=image/png:https://thespiritchurch.org/wp-content/uploads/2025/08/Final-Rolling-Slides-5-1.png
END:VEVENT
BEGIN:VEVENT
DTSTART;TZID=UTC:20260222T153000
DTEND;TZID=UTC:20260222T173000
DTSTAMP:20260423T234753
CREATED:20260112T211135Z
LAST-MODIFIED:20260112T211602Z
UID:10000964-1771774200-1771781400@thespiritchurch.org
SUMMARY:RiSE Service
DESCRIPTION:This service is for our middle school and high school students. We will only be meeting on the 4th Sunday of this month.
URL:https://thespiritchurch.org/eventcalendar/rise-service-2/
ATTACH;FMTTYPE=image/png:https://thespiritchurch.org/wp-content/uploads/2025/03/RiSE-Rolling-Slides.png
END:VEVENT
BEGIN:VEVENT
DTSTART;TZID=UTC:20260227T180000
DTEND;TZID=UTC:20260227T200000
DTSTAMP:20260423T234753
CREATED:20251229T193602Z
LAST-MODIFIED:20260413T190933Z
UID:10000940-1772215200-1772222400@thespiritchurch.org
SUMMARY:Next Up Service
DESCRIPTION:Calling all young adults! Don’t miss the opportunity to connect with like-minded individuals. Join us for an on-time word and hang out afterward. Note: Post-service hangout locations may vary.
URL:https://thespiritchurch.org/eventcalendar/next-up-service-5/2026-02-27/
ATTACH;FMTTYPE=image/png:https://thespiritchurch.org/wp-content/uploads/2025/12/Next-Up-UPDATED-ROLLING-SLIDE-4.png
END:VEVENT
BEGIN:VEVENT
DTSTART;TZID=UTC:20260302T190000
DTEND;TZID=UTC:20260302T210000
DTSTAMP:20260423T234753
CREATED:20241103T025113Z
LAST-MODIFIED:20241103T041902Z
UID:10000019-1772478000-1772485200@thespiritchurch.org
SUMMARY:Men's Locker Room
DESCRIPTION:Men’s Locker Room is our monthly Bible study where men gather for fellowship\, growth\, and a powerful message from Pastor Aeneas.
URL:https://thespiritchurch.org/eventcalendar/mens-locker-room/2026-03-02/
ATTACH;FMTTYPE=image/jpeg:https://thespiritchurch.org/wp-content/uploads/2024/11/image-2.jpg
END:VEVENT
BEGIN:VEVENT
DTSTART;VALUE=DATE:20260308
DTEND;VALUE=DATE:20260309
DTSTAMP:20260423T234753
CREATED:20260112T212038Z
LAST-MODIFIED:20260112T212038Z
UID:10000965-1772928000-1773014399@thespiritchurch.org
SUMMARY:Spring Forward (Daylight Savings)
DESCRIPTION:Don’t forget to “spring forward” an hour on Sunday\, March 8. On that day at 2 a.m.\, the time will move forward an hour\, becoming 3 a.m.
URL:https://thespiritchurch.org/eventcalendar/spring-forward-daylight-savings-2/
ATTACH;FMTTYPE=image/png:https://thespiritchurch.org/wp-content/uploads/2025/01/Copy-of-Fall-Back-Graphic.png
END:VEVENT
BEGIN:VEVENT
DTSTART;TZID=UTC:20260308T090000
DTEND;TZID=UTC:20260308T113000
DTSTAMP:20260423T234753
CREATED:20260112T213605Z
LAST-MODIFIED:20260112T214343Z
UID:10000966-1772960400-1772969400@thespiritchurch.org
SUMMARY:Baby Dedication
DESCRIPTION:We are honored to host our annual Baby Dedication on Sunday\, March 8\, during our 9 a.m. or 11 a.m. services. For children ages 0 to 5. This special celebration is open to members of The Spirit Church. Participants must register by March 4. \nLink to Register: https://the-spirit-church-67999.churchcenter.com/registrations/events/3387628
URL:https://thespiritchurch.org/eventcalendar/baby-dedication-2/
ATTACH;FMTTYPE=image/png:https://thespiritchurch.org/wp-content/uploads/2025/06/FINAL-PLATFORM-7.png
END:VEVENT
BEGIN:VEVENT
DTSTART;TZID=UTC:20260308T153000
DTEND;TZID=UTC:20260308T173000
DTSTAMP:20260423T234753
CREATED:20260112T214649Z
LAST-MODIFIED:20260112T215507Z
UID:10000967-1772983800-1772991000@thespiritchurch.org
SUMMARY:RiSE Middle School & High School Service
DESCRIPTION:This service is for our middle and high school students. We will meet on the 2nd and 4th Sundays in March.
URL:https://thespiritchurch.org/eventcalendar/rise-middle-school-high-school-service-7/
ATTACH;FMTTYPE=image/png:https://thespiritchurch.org/wp-content/uploads/2025/03/RiSE-Rolling-Slides.png
END:VEVENT
BEGIN:VEVENT
DTSTART;TZID=UTC:20260313T190000
DTEND;TZID=UTC:20260313T203000
DTSTAMP:20260423T234753
CREATED:20260112T215356Z
LAST-MODIFIED:20260310T185034Z
UID:10000968-1773428400-1773433800@thespiritchurch.org
SUMMARY:Wonder Women Café Koinonia
DESCRIPTION:Join us for our first Café Koinonia of the year on Friday\, March 13\, at 7 p.m. This warm and intimate gathering is designed for women to come together in a relaxed and welcoming atmosphere. Over coffee\, light refreshments\, and a nacho bar\, women will connect around the Word of God and experience meaningful fellowship. \nThe word koinonia means intimate fellowship and communion\, and this gathering reflects the heart of Wonder Women—creating authentic spaces where women can build genuine community\, grow in their faith\, and be encouraged in the Word. \nPlease note: childcare will not be provided for this event.
URL:https://thespiritchurch.org/eventcalendar/wonder-women-cafe-koinonia/
ATTACH;FMTTYPE=image/png:https://thespiritchurch.org/wp-content/uploads/2026/01/Wonder-Women-Cafe-K-WEB-FINAL-1.png
END:VEVENT
BEGIN:VEVENT
DTSTART;TZID=UTC:20260314T110000
DTEND;TZID=UTC:20260314T133000
DTSTAMP:20260423T234753
CREATED:20251229T195128Z
LAST-MODIFIED:20260316T152108Z
UID:10000950-1773486000-1773495000@thespiritchurch.org
SUMMARY:Wise Steps Saturday (Membership Class)
DESCRIPTION:Interested in becoming a member of The Spirit Church?\nJoin us every second Saturday of the month at 11 a.m. for a streamlined\, fast-track experience where you can complete all four Wise Step classes in just one day. In these classes\, you’ll learn who we are and how we partner together. \nDon’t let a busy schedule hold you back—take the next step with us! Let us know you’re coming by clicking here to register. 
URL:https://thespiritchurch.org/eventcalendar/wise-steps-saturday-4/2026-03-14/
ATTACH;FMTTYPE=image/png:https://thespiritchurch.org/wp-content/uploads/2025/03/Copy-of-Wise-Steps-Signs-1.png
END:VEVENT
BEGIN:VEVENT
DTSTART;TZID=UTC:20260322T140000
DTEND;TZID=UTC:20260322T160000
DTSTAMP:20260423T234753
CREATED:20260113T172809Z
LAST-MODIFIED:20260113T192524Z
UID:10000972-1774188000-1774195200@thespiritchurch.org
SUMMARY:RiSE Skating Outing
DESCRIPTION:Calling all RiSE students! Join us for our annual RiSE Skating Outing on Sunday\, March 22\, from 2 p.m. to 4 p.m. Admission is $13 per person\, which includes skate rental ($8 admission + $5 skate rental). Learn more here: https://skatecitystl.com/events/3101/-2pm-4pm-PUBLIC-SKATING
URL:https://thespiritchurch.org/eventcalendar/rise-skating-outing-2/
LOCATION:Skate City\, 3754 Pennridge Drive\, Bridgeton\, 63044\, United States
ATTACH;FMTTYPE=image/png:https://thespiritchurch.org/wp-content/uploads/2026/01/RiSE-Skating-Outing-WEB.png
END:VEVENT
BEGIN:VEVENT
DTSTART;TZID=UTC:20260327T180000
DTEND;TZID=UTC:20260327T200000
DTSTAMP:20260423T234753
CREATED:20251229T193602Z
LAST-MODIFIED:20260413T190933Z
UID:10000941-1774634400-1774641600@thespiritchurch.org
SUMMARY:Next Up Service
DESCRIPTION:Calling all young adults! Don’t miss the opportunity to connect with like-minded individuals. Join us for an on-time word and hang out afterward. Note: Post-service hangout locations may vary.
URL:https://thespiritchurch.org/eventcalendar/next-up-service-5/2026-03-27/
ATTACH;FMTTYPE=image/png:https://thespiritchurch.org/wp-content/uploads/2025/12/Next-Up-UPDATED-ROLLING-SLIDE-4.png
END:VEVENT
BEGIN:VEVENT
DTSTART;TZID=UTC:20260405T090000
DTEND;TZID=UTC:20260405T123000
DTSTAMP:20260423T234753
CREATED:20260217T144956Z
LAST-MODIFIED:20260304T202050Z
UID:10000993-1775379600-1775392200@thespiritchurch.org
SUMMARY:Easter at The Spirit Church
DESCRIPTION:Easter is more than just a holiday—it’s a fresh start\, a reminder that hope is alive and God’s love has no limits. Come as you are—no pressure\, no pretense—just a place where you are loved\, accepted\, and truly belong. \nAt The Spirit Church\, you’ll find a welcoming atmosphere\, real people\, and a powerful message of love and redemption. \nJoin us for an unforgettable Easter celebration on April 5! Choose from three service times: 7:30 a.m.\, 9 a.m.\, and 11 a.m. Bring your family—we offer FREE childcare and exciting\, faith-filled programs for kids. \nCome experience the joy\, hope\, and love that Easter brings. You are welcome here!
URL:https://thespiritchurch.org/eventcalendar/easter-at-the-spirit-church-2026/
ATTACH;FMTTYPE=image/png:https://thespiritchurch.org/wp-content/uploads/2026/02/Easter-at-TSC-2026-FINAL-1.png
END:VEVENT
BEGIN:VEVENT
DTSTART;TZID=UTC:20260406T190000
DTEND;TZID=UTC:20260406T210000
DTSTAMP:20260423T234753
CREATED:20241103T025113Z
LAST-MODIFIED:20241103T041902Z
UID:10000020-1775502000-1775509200@thespiritchurch.org
SUMMARY:Men's Locker Room
DESCRIPTION:Men’s Locker Room is our monthly Bible study where men gather for fellowship\, growth\, and a powerful message from Pastor Aeneas.
URL:https://thespiritchurch.org/eventcalendar/mens-locker-room/2026-04-06/
ATTACH;FMTTYPE=image/jpeg:https://thespiritchurch.org/wp-content/uploads/2024/11/image-2.jpg
END:VEVENT
BEGIN:VEVENT
DTSTART;TZID=UTC:20260411T110000
DTEND;TZID=UTC:20260411T133000
DTSTAMP:20260423T234753
CREATED:20251229T195128Z
LAST-MODIFIED:20260316T152108Z
UID:10000951-1775905200-1775914200@thespiritchurch.org
SUMMARY:Wise Steps Saturday (Membership Class)
DESCRIPTION:Interested in becoming a member of The Spirit Church?\nJoin us every second Saturday of the month at 11 a.m. for a streamlined\, fast-track experience where you can complete all four Wise Step classes in just one day. In these classes\, you’ll learn who we are and how we partner together. \nDon’t let a busy schedule hold you back—take the next step with us! Let us know you’re coming by clicking here to register. 
URL:https://thespiritchurch.org/eventcalendar/wise-steps-saturday-4/2026-04-11/
ATTACH;FMTTYPE=image/png:https://thespiritchurch.org/wp-content/uploads/2025/03/Copy-of-Wise-Steps-Signs-1.png
END:VEVENT
BEGIN:VEVENT
DTSTART;TZID=UTC:20260412T153000
DTEND;TZID=UTC:20260412T173000
DTSTAMP:20260423T234753
CREATED:20260112T215748Z
LAST-MODIFIED:20260112T215748Z
UID:10000969-1776007800-1776015000@thespiritchurch.org
SUMMARY:RiSE Middle School & High School Service
DESCRIPTION:This service is for our middle and high school students. We will meet on the 2nd and 4th Sundays in April.
URL:https://thespiritchurch.org/eventcalendar/rise-middle-school-high-school-service-8/
ATTACH;FMTTYPE=image/png:https://thespiritchurch.org/wp-content/uploads/2025/03/RiSE-Rolling-Slides.png
END:VEVENT
BEGIN:VEVENT
DTSTART;TZID=UTC:20260424T180000
DTEND;TZID=UTC:20260424T200000
DTSTAMP:20260423T234753
CREATED:20251229T193602Z
LAST-MODIFIED:20260413T190933Z
UID:10000942-1777053600-1777060800@thespiritchurch.org
SUMMARY:Next Up Service
DESCRIPTION:Calling all young adults! Don’t miss the opportunity to connect with like-minded individuals. Join us for an on-time word and hang out afterward. Note: Post-service hangout locations may vary.
URL:https://thespiritchurch.org/eventcalendar/next-up-service-5/2026-04-24/
ATTACH;FMTTYPE=image/png:https://thespiritchurch.org/wp-content/uploads/2025/12/Next-Up-UPDATED-ROLLING-SLIDE-4.png
END:VEVENT
BEGIN:VEVENT
DTSTART;TZID=UTC:20260426T153000
DTEND;TZID=UTC:20260426T173000
DTSTAMP:20260423T234753
CREATED:20260112T215834Z
LAST-MODIFIED:20260413T191318Z
UID:10000970-1777217400-1777224600@thespiritchurch.org
SUMMARY:RiSE Middle School & High School Service
DESCRIPTION:This service is for our middle and high school students. We will meet on the 2nd and 4th Sundays in April.
URL:https://thespiritchurch.org/eventcalendar/rise-middle-school-high-school-service-9/
ATTACH;FMTTYPE=image/png:https://thespiritchurch.org/wp-content/uploads/2026/01/Updated-RiSE-ROLLING-SLIDE-5.png
END:VEVENT
END:VCALENDAR