BEGIN:VCALENDAR
VERSION:2.0
PRODID:-//The Spirit Church - ECPv6.15.20//NONSGML v1.0//EN
CALSCALE:GREGORIAN
METHOD:PUBLISH
X-WR-CALNAME:The Spirit Church
X-ORIGINAL-URL:https://thespiritchurch.org
X-WR-CALDESC:Events for The Spirit Church
REFRESH-INTERVAL;VALUE=DURATION:PT1H
X-Robots-Tag:noindex
X-PUBLISHED-TTL:PT1H
BEGIN:VTIMEZONE
TZID:UTC
BEGIN:STANDARD
TZOFFSETFROM:+0000
TZOFFSETTO:+0000
TZNAME:UTC
DTSTART:20250101T000000
END:STANDARD
END:VTIMEZONE
BEGIN:VEVENT
DTSTART;TZID=UTC:20260626T180000
DTEND;TZID=UTC:20260626T200000
DTSTAMP:20260423T203041
CREATED:20251229T193602Z
LAST-MODIFIED:20260413T190933Z
UID:10000944-1782496800-1782504000@thespiritchurch.org
SUMMARY:Next Up Service
DESCRIPTION:Calling all young adults! Don’t miss the opportunity to connect with like-minded individuals. Join us for an on-time word and hang out afterward. Note: Post-service hangout locations may vary.
URL:https://thespiritchurch.org/eventcalendar/next-up-service-5/2026-06-26/
ATTACH;FMTTYPE=image/png:https://thespiritchurch.org/wp-content/uploads/2025/12/Next-Up-UPDATED-ROLLING-SLIDE-4.png
END:VEVENT
END:VCALENDAR