BEGIN:VCALENDAR
VERSION:2.0
PRODID:-//The Spirit Church - ECPv6.15.20//NONSGML v1.0//EN
CALSCALE:GREGORIAN
METHOD:PUBLISH
X-ORIGINAL-URL:https://thespiritchurch.org
X-WR-CALDESC:Events for The Spirit Church
REFRESH-INTERVAL;VALUE=DURATION:PT1H
X-Robots-Tag:noindex
X-PUBLISHED-TTL:PT1H
BEGIN:VTIMEZONE
TZID:UTC
BEGIN:STANDARD
TZOFFSETFROM:+0000
TZOFFSETTO:+0000
TZNAME:UTC
DTSTART:20250101T000000
END:STANDARD
END:VTIMEZONE
BEGIN:VEVENT
DTSTART;TZID=UTC:20260314T110000
DTEND;TZID=UTC:20260314T133000
DTSTAMP:20260423T190907
CREATED:20251229T195128Z
LAST-MODIFIED:20260316T152108Z
UID:10000950-1773486000-1773495000@thespiritchurch.org
SUMMARY:Wise Steps Saturday (Membership Class)
DESCRIPTION:Interested in becoming a member of The Spirit Church?\nJoin us every second Saturday of the month at 11 a.m. for a streamlined\, fast-track experience where you can complete all four Wise Step classes in just one day. In these classes\, you’ll learn who we are and how we partner together. \nDon’t let a busy schedule hold you back—take the next step with us! Let us know you’re coming by clicking here to register. 
URL:https://thespiritchurch.org/eventcalendar/wise-steps-saturday-4/2026-03-14/
ATTACH;FMTTYPE=image/png:https://thespiritchurch.org/wp-content/uploads/2025/03/Copy-of-Wise-Steps-Signs-1.png
END:VEVENT
END:VCALENDAR