BEGIN:VCALENDAR
VERSION:2.0
PRODID:-//The Spirit Church - ECPv6.15.20//NONSGML v1.0//EN
CALSCALE:GREGORIAN
METHOD:PUBLISH
X-WR-CALNAME:The Spirit Church
X-ORIGINAL-URL:https://thespiritchurch.org
X-WR-CALDESC:Events for The Spirit Church
REFRESH-INTERVAL;VALUE=DURATION:PT1H
X-Robots-Tag:noindex
X-PUBLISHED-TTL:PT1H
BEGIN:VTIMEZONE
TZID:UTC
BEGIN:STANDARD
TZOFFSETFROM:+0000
TZOFFSETTO:+0000
TZNAME:UTC
DTSTART:20250101T000000
END:STANDARD
END:VTIMEZONE
BEGIN:VEVENT
DTSTART;TZID=UTC:20260221T110000
DTEND;TZID=UTC:20260221T133000
DTSTAMP:20260423T203053
CREATED:20260122T200009Z
LAST-MODIFIED:20260316T151659Z
UID:12360-1771671600-1771680600@thespiritchurch.org
SUMMARY:Wise Steps Saturday (Membership Class)
DESCRIPTION:Interested in becoming a member of The Spirit Church?\n \nWise Steps is usually held on the second Saturday of each month at 11:00 a.m.; however\, this month it will be held on the third Saturday in observance of Valentine’s Day. These classes offer a streamlined\, fast-track experience\, allowing you to complete all four Wise Steps classes in just one day. During the classes\, you’ll learn who we are and how we partner together. \nDon’t let a busy schedule hold you back—take the next step with us! Let us know you’re coming by clicking here to register. 
URL:https://thespiritchurch.org/eventcalendar/wise-steps-saturday-membership-class/
ATTACH;FMTTYPE=image/png:https://thespiritchurch.org/wp-content/uploads/2025/03/Copy-of-Wise-Steps-Signs-1.png
END:VEVENT
END:VCALENDAR