BEGIN:VCALENDAR
VERSION:2.0
PRODID:-//The Spirit Church - ECPv6.15.20//NONSGML v1.0//EN
CALSCALE:GREGORIAN
METHOD:PUBLISH
X-WR-CALNAME:The Spirit Church
X-ORIGINAL-URL:https://thespiritchurch.org
X-WR-CALDESC:Events for The Spirit Church
REFRESH-INTERVAL;VALUE=DURATION:PT1H
X-Robots-Tag:noindex
X-PUBLISHED-TTL:PT1H
BEGIN:VTIMEZONE
TZID:UTC
BEGIN:STANDARD
TZOFFSETFROM:+0000
TZOFFSETTO:+0000
TZNAME:UTC
DTSTART:20250101T000000
END:STANDARD
END:VTIMEZONE
BEGIN:VEVENT
DTSTART;TZID=UTC:20260613T080000
DTEND;TZID=UTC:20260613T130000
DTSTAMP:20260423T155347
CREATED:20260413T192424Z
LAST-MODIFIED:20260413T192509Z
UID:12725-1781337600-1781355600@thespiritchurch.org
SUMMARY:Men's Summit
DESCRIPTION:Save the date for our first-ever Men’s Summit on June 13 at 8 a.m. More details coming soon. Mark your calendar\, you won’t want to miss this powerful event!
URL:https://thespiritchurch.org/eventcalendar/mens-summit/
ATTACH;FMTTYPE=image/png:https://thespiritchurch.org/wp-content/uploads/2026/04/Mens-Summit-SAVE-THE-DATE-1.png
END:VEVENT
END:VCALENDAR