BEGIN:VCALENDAR
VERSION:2.0
PRODID:-//The Spirit Church - ECPv6.15.20//NONSGML v1.0//EN
CALSCALE:GREGORIAN
METHOD:PUBLISH
X-WR-CALNAME:The Spirit Church
X-ORIGINAL-URL:https://thespiritchurch.org
X-WR-CALDESC:Events for The Spirit Church
REFRESH-INTERVAL;VALUE=DURATION:PT1H
X-Robots-Tag:noindex
X-PUBLISHED-TTL:PT1H
BEGIN:VTIMEZONE
TZID:UTC
BEGIN:STANDARD
TZOFFSETFROM:+0000
TZOFFSETTO:+0000
TZNAME:UTC
DTSTART:20250101T000000
END:STANDARD
END:VTIMEZONE
BEGIN:VEVENT
DTSTART;TZID=UTC:20260105T190000
DTEND;TZID=UTC:20260105T210000
DTSTAMP:20260423T221517
CREATED:20251217T195331Z
LAST-MODIFIED:20251217T195340Z
UID:12073-1767639600-1767646800@thespiritchurch.org
SUMMARY:Men's Locker Room CANCELED
DESCRIPTION:Men’s Locker Room is CANCELED for the month of January. We will resume on the first Monday in February.
URL:https://thespiritchurch.org/eventcalendar/mens-locker-room-9/
ATTACH;FMTTYPE=image/png:https://thespiritchurch.org/wp-content/uploads/2024/11/Mens-Locker-Room-2.png
END:VEVENT
END:VCALENDAR